BEGIN:VCALENDAR
VERSION:2.0
PRODID:-//AFSPA - ECPv6.15.20//NONSGML v1.0//EN
CALSCALE:GREGORIAN
METHOD:PUBLISH
X-WR-CALNAME:AFSPA
X-ORIGINAL-URL:https://www.afspa.org
X-WR-CALDESC:Events for AFSPA
REFRESH-INTERVAL;VALUE=DURATION:PT1H
X-Robots-Tag:noindex
X-PUBLISHED-TTL:PT1H
BEGIN:VTIMEZONE
TZID:America/New_York
BEGIN:DAYLIGHT
TZOFFSETFROM:-0500
TZOFFSETTO:-0400
TZNAME:EDT
DTSTART:20240310T070000
END:DAYLIGHT
BEGIN:STANDARD
TZOFFSETFROM:-0400
TZOFFSETTO:-0500
TZNAME:EST
DTSTART:20241103T060000
END:STANDARD
BEGIN:DAYLIGHT
TZOFFSETFROM:-0500
TZOFFSETTO:-0400
TZNAME:EDT
DTSTART:20250309T070000
END:DAYLIGHT
BEGIN:STANDARD
TZOFFSETFROM:-0400
TZOFFSETTO:-0500
TZNAME:EST
DTSTART:20251102T060000
END:STANDARD
BEGIN:DAYLIGHT
TZOFFSETFROM:-0500
TZOFFSETTO:-0400
TZNAME:EDT
DTSTART:20260308T070000
END:DAYLIGHT
BEGIN:STANDARD
TZOFFSETFROM:-0400
TZOFFSETTO:-0500
TZNAME:EST
DTSTART:20261101T060000
END:STANDARD
END:VTIMEZONE
BEGIN:VEVENT
DTSTART;TZID=America/New_York:20250422T080000
DTEND;TZID=America/New_York:20250422T090000
DTSTAMP:20260423T051141
CREATED:20250403T185211Z
LAST-MODIFIED:20250403T185738Z
UID:10000684-1745308800-1745312400@www.afspa.org
SUMMARY:Managing Employment Change
DESCRIPTION:This session helps you understand your options for unemployment compensation and health insurance replacement and discuss ways to protect your retirement savings. It will also cover topics like which benefits will go with you\, maintaining financial wellness during the transition\, unemployment compensation and managing cash flow\, and more. We offer this webinar in three sessions: 8 a.m.\, 1 p.m.\, and 6 p.m. ET. Please choose the session time that works best with your schedule.
URL:https://www.afspa.org/events/managing-employment-change/2025-04-22/1/
LOCATION:ZOOM
CATEGORIES:Ancillary Insurance Programs,Financial Wellness
ATTACH;FMTTYPE=image/jpeg:https://www.afspa.org/wp-content/uploads/2025/04/Managing-Employment-Change.jpeg
END:VEVENT
BEGIN:VEVENT
DTSTART;TZID=America/New_York:20250422T100000
DTEND;TZID=America/New_York:20250422T160000
DTSTAMP:20260423T051141
CREATED:20250318T180403Z
LAST-MODIFIED:20250318T180452Z
UID:10000672-1745316000-1745337600@www.afspa.org
SUMMARY:Financial Wellness Check-Up
DESCRIPTION:AFSPA members can schedule an appointment with a financial professional who can assist you in evaluating your financial objectives\, addressing concerns related to overall financial health\, providing clarity on your benefit plan\, and optimizing its usage. These specialists will be accessible from 10:00 am to 4:00 pm ET. Register now to make an appointment.
URL:https://www.afspa.org/events/financial-wellness-check-up-10/
LOCATION:ZOOM
CATEGORIES:Ancillary Insurance Programs,Financial Wellness
ATTACH;FMTTYPE=image/jpeg:https://www.afspa.org/wp-content/uploads/2023/10/successful-well-groomed-financier-in-stylish-suit-scaled.jpg
END:VEVENT
BEGIN:VEVENT
DTSTART;TZID=America/New_York:20250422T130000
DTEND;TZID=America/New_York:20250422T140000
DTSTAMP:20260423T051141
CREATED:20250403T185211Z
LAST-MODIFIED:20250403T185738Z
UID:10000685-1745326800-1745330400@www.afspa.org
SUMMARY:Managing Employment Change
DESCRIPTION:This session helps you understand your options for unemployment compensation and health insurance replacement and discuss ways to protect your retirement savings. It will also cover topics like which benefits will go with you\, maintaining financial wellness during the transition\, unemployment compensation and managing cash flow\, and more. We offer this webinar in three sessions: 8 a.m.\, 1 p.m.\, and 6 p.m. ET. Please choose the session time that works best with your schedule.
URL:https://www.afspa.org/events/managing-employment-change/2025-04-22/2/
LOCATION:ZOOM
CATEGORIES:Ancillary Insurance Programs,Financial Wellness
ATTACH;FMTTYPE=image/jpeg:https://www.afspa.org/wp-content/uploads/2025/04/Managing-Employment-Change.jpeg
END:VEVENT
BEGIN:VEVENT
DTSTART;TZID=America/New_York:20250422T180000
DTEND;TZID=America/New_York:20250422T190000
DTSTAMP:20260423T051141
CREATED:20250403T185211Z
LAST-MODIFIED:20250403T185738Z
UID:10000686-1745344800-1745348400@www.afspa.org
SUMMARY:Managing Employment Change
DESCRIPTION:This session helps you understand your options for unemployment compensation and health insurance replacement and discuss ways to protect your retirement savings. It will also cover topics like which benefits will go with you\, maintaining financial wellness during the transition\, unemployment compensation and managing cash flow\, and more. We offer this webinar in three sessions: 8 a.m.\, 1 p.m.\, and 6 p.m. ET. Please choose the session time that works best with your schedule.
URL:https://www.afspa.org/events/managing-employment-change/2025-04-22/3/
LOCATION:ZOOM
CATEGORIES:Ancillary Insurance Programs,Financial Wellness
ATTACH;FMTTYPE=image/jpeg:https://www.afspa.org/wp-content/uploads/2025/04/Managing-Employment-Change.jpeg
END:VEVENT
END:VCALENDAR