BEGIN:VCALENDAR
VERSION:2.0
PRODID:-//AFSPA - ECPv6.15.20//NONSGML v1.0//EN
CALSCALE:GREGORIAN
METHOD:PUBLISH
X-ORIGINAL-URL:https://www.afspa.org
X-WR-CALDESC:Events for AFSPA
REFRESH-INTERVAL;VALUE=DURATION:PT1H
X-Robots-Tag:noindex
X-PUBLISHED-TTL:PT1H
BEGIN:VTIMEZONE
TZID:America/New_York
BEGIN:DAYLIGHT
TZOFFSETFROM:-0500
TZOFFSETTO:-0400
TZNAME:EDT
DTSTART:20250309T070000
END:DAYLIGHT
BEGIN:STANDARD
TZOFFSETFROM:-0400
TZOFFSETTO:-0500
TZNAME:EST
DTSTART:20251102T060000
END:STANDARD
BEGIN:DAYLIGHT
TZOFFSETFROM:-0500
TZOFFSETTO:-0400
TZNAME:EDT
DTSTART:20260308T070000
END:DAYLIGHT
BEGIN:STANDARD
TZOFFSETFROM:-0400
TZOFFSETTO:-0500
TZNAME:EST
DTSTART:20261101T060000
END:STANDARD
BEGIN:DAYLIGHT
TZOFFSETFROM:-0500
TZOFFSETTO:-0400
TZNAME:EDT
DTSTART:20270314T070000
END:DAYLIGHT
BEGIN:STANDARD
TZOFFSETFROM:-0400
TZOFFSETTO:-0500
TZNAME:EST
DTSTART:20271107T060000
END:STANDARD
END:VTIMEZONE
BEGIN:VEVENT
DTSTART;TZID=America/New_York:20260306T110000
DTEND;TZID=America/New_York:20260306T133000
DTSTAMP:20260422T211239
CREATED:20260210T203523Z
LAST-MODIFIED:20260210T203621Z
UID:10000786-1772794800-1772803800@www.afspa.org
SUMMARY:Annual AFSPA Member Meeting
DESCRIPTION:Join us for an exclusive meeting for AFSPA members. This is a great opportunity to get an overview of AFSPA’s planned activities for 2026\, meet our dedicated team\, and gain valuable insights into FEHB initiatives\, AFSPA and FSBP updates\, Medicare updates\, and much more. RSVP by February 27. 
URL:https://www.afspa.org/events/annual-afspa-member-meeting-4/
LOCATION:AFSPA Headquarters Office\, 1620 L Street NW\, Suite 800\, Washington\, DC\, 20036\, United States
CATEGORIES:Annual Meeting
ATTACH;FMTTYPE=image/png:https://www.afspa.org/wp-content/uploads/2026/02/Website-2026-AFSPA-Annual-Meeting-Save-the-Date.png
END:VEVENT
END:VCALENDAR