BEGIN:VCALENDAR
VERSION:2.0
PRODID:-//AFSPA - ECPv6.15.20//NONSGML v1.0//EN
CALSCALE:GREGORIAN
METHOD:PUBLISH
X-WR-CALNAME:AFSPA
X-ORIGINAL-URL:https://www.afspa.org
X-WR-CALDESC:Events for AFSPA
REFRESH-INTERVAL;VALUE=DURATION:PT1H
X-Robots-Tag:noindex
X-PUBLISHED-TTL:PT1H
BEGIN:VTIMEZONE
TZID:America/New_York
BEGIN:DAYLIGHT
TZOFFSETFROM:-0500
TZOFFSETTO:-0400
TZNAME:EDT
DTSTART:20220313T070000
END:DAYLIGHT
BEGIN:STANDARD
TZOFFSETFROM:-0400
TZOFFSETTO:-0500
TZNAME:EST
DTSTART:20221106T060000
END:STANDARD
BEGIN:DAYLIGHT
TZOFFSETFROM:-0500
TZOFFSETTO:-0400
TZNAME:EDT
DTSTART:20230312T070000
END:DAYLIGHT
BEGIN:STANDARD
TZOFFSETFROM:-0400
TZOFFSETTO:-0500
TZNAME:EST
DTSTART:20231105T060000
END:STANDARD
BEGIN:DAYLIGHT
TZOFFSETFROM:-0500
TZOFFSETTO:-0400
TZNAME:EDT
DTSTART:20240310T070000
END:DAYLIGHT
BEGIN:STANDARD
TZOFFSETFROM:-0400
TZOFFSETTO:-0500
TZNAME:EST
DTSTART:20241103T060000
END:STANDARD
END:VTIMEZONE
BEGIN:VEVENT
DTSTART;TZID=America/New_York:20230510T080000
DTEND;TZID=America/New_York:20230510T090000
DTSTAMP:20260423T033244
CREATED:20230405T190935Z
LAST-MODIFIED:20230406T205228Z
UID:10000493-1683705600-1683709200@www.afspa.org
SUMMARY:Financial Self Care for Women
DESCRIPTION:This session will help you understand the unique challenges women face when planning for retirement\, including saving strategies and how to meet your goals. \nThis seminar will cover important topics like: \n\nIdentifying top money concerns\nProtecting your greatest assets\nDeveloping a money mindset and a plan for you\nAnd more\n\nWe offer this webinar in three sessions\, 8 am\, 1 pm\, and 6 pm ET. Please choose the session time that works best with your schedule. Register here.
URL:https://www.afspa.org/events/financial-self-care-for-women/2023-05-10/1/
LOCATION:WebEx
CATEGORIES:Ancillary Insurance Programs,Financial Wellness
ATTACH;FMTTYPE=image/jpeg:https://www.afspa.org/wp-content/uploads/2023/04/discussion-between-financial-analysts-women-in-the-2023-03-24-19-21-19-utc-scaled.jpg
END:VEVENT
BEGIN:VEVENT
DTSTART;TZID=America/New_York:20230510T130000
DTEND;TZID=America/New_York:20230510T140000
DTSTAMP:20260423T033244
CREATED:20230405T190935Z
LAST-MODIFIED:20230406T205228Z
UID:10000494-1683723600-1683727200@www.afspa.org
SUMMARY:Financial Self Care for Women
DESCRIPTION:This session will help you understand the unique challenges women face when planning for retirement\, including saving strategies and how to meet your goals. \nThis seminar will cover important topics like: \n\nIdentifying top money concerns\nProtecting your greatest assets\nDeveloping a money mindset and a plan for you\nAnd more\n\nWe offer this webinar in three sessions\, 8 am\, 1 pm\, and 6 pm ET. Please choose the session time that works best with your schedule. Register here.
URL:https://www.afspa.org/events/financial-self-care-for-women/2023-05-10/2/
LOCATION:WebEx
CATEGORIES:Ancillary Insurance Programs,Financial Wellness
ATTACH;FMTTYPE=image/jpeg:https://www.afspa.org/wp-content/uploads/2023/04/discussion-between-financial-analysts-women-in-the-2023-03-24-19-21-19-utc-scaled.jpg
END:VEVENT
BEGIN:VEVENT
DTSTART;TZID=America/New_York:20230510T180000
DTEND;TZID=America/New_York:20230510T190000
DTSTAMP:20260423T033244
CREATED:20230405T190935Z
LAST-MODIFIED:20230406T205228Z
UID:10000495-1683741600-1683745200@www.afspa.org
SUMMARY:Financial Self Care for Women
DESCRIPTION:This session will help you understand the unique challenges women face when planning for retirement\, including saving strategies and how to meet your goals. \nThis seminar will cover important topics like: \n\nIdentifying top money concerns\nProtecting your greatest assets\nDeveloping a money mindset and a plan for you\nAnd more\n\nWe offer this webinar in three sessions\, 8 am\, 1 pm\, and 6 pm ET. Please choose the session time that works best with your schedule. Register here.
URL:https://www.afspa.org/events/financial-self-care-for-women/2023-05-10/3/
LOCATION:WebEx
CATEGORIES:Ancillary Insurance Programs,Financial Wellness
ATTACH;FMTTYPE=image/jpeg:https://www.afspa.org/wp-content/uploads/2023/04/discussion-between-financial-analysts-women-in-the-2023-03-24-19-21-19-utc-scaled.jpg
END:VEVENT
BEGIN:VEVENT
DTSTART;TZID=America/New_York:20230517T080000
DTEND;TZID=America/New_York:20230517T090000
DTSTAMP:20260423T033244
CREATED:20230406T205114Z
LAST-MODIFIED:20230406T205116Z
UID:10000489-1684310400-1684314000@www.afspa.org
SUMMARY:Retirement Strategies for Women
DESCRIPTION:This seminar provides retirement planning steps for women so they can have the savings to live the life they imagine in retirement. We will cover topics like: \n\nAddress key financial concerns\nProtect and plan for your financial future\nOrganize key documents and everyday finances\nAnd more\n\nWe offer this webinar in three sessions\, 8 am\, 1 pm\, and 6 pm ET. Please choose the session time that works best with your schedule. Register here.
URL:https://www.afspa.org/events/retirement-strategies-for-women/2023-05-17/1/
LOCATION:WebEx
CATEGORIES:Ancillary Insurance Programs,Financial Wellness,Retirement
ATTACH;FMTTYPE=image/jpeg:https://www.afspa.org/wp-content/uploads/2023/04/happy-multiracial-senior-women-having-fun-together-2023-04-04-18-23-11-utc-scaled.jpg
END:VEVENT
BEGIN:VEVENT
DTSTART;TZID=America/New_York:20230517T130000
DTEND;TZID=America/New_York:20230517T140000
DTSTAMP:20260423T033244
CREATED:20230406T205114Z
LAST-MODIFIED:20230406T205116Z
UID:10000490-1684328400-1684332000@www.afspa.org
SUMMARY:Retirement Strategies for Women
DESCRIPTION:This seminar provides retirement planning steps for women so they can have the savings to live the life they imagine in retirement. We will cover topics like: \n\nAddress key financial concerns\nProtect and plan for your financial future\nOrganize key documents and everyday finances\nAnd more\n\nWe offer this webinar in three sessions\, 8 am\, 1 pm\, and 6 pm ET. Please choose the session time that works best with your schedule. Register here.
URL:https://www.afspa.org/events/retirement-strategies-for-women/2023-05-17/2/
LOCATION:WebEx
CATEGORIES:Ancillary Insurance Programs,Financial Wellness,Retirement
ATTACH;FMTTYPE=image/jpeg:https://www.afspa.org/wp-content/uploads/2023/04/happy-multiracial-senior-women-having-fun-together-2023-04-04-18-23-11-utc-scaled.jpg
END:VEVENT
BEGIN:VEVENT
DTSTART;TZID=America/New_York:20230517T180000
DTEND;TZID=America/New_York:20230517T190000
DTSTAMP:20260423T033244
CREATED:20230406T205114Z
LAST-MODIFIED:20230406T205116Z
UID:10000491-1684346400-1684350000@www.afspa.org
SUMMARY:Retirement Strategies for Women
DESCRIPTION:This seminar provides retirement planning steps for women so they can have the savings to live the life they imagine in retirement. We will cover topics like: \n\nAddress key financial concerns\nProtect and plan for your financial future\nOrganize key documents and everyday finances\nAnd more\n\nWe offer this webinar in three sessions\, 8 am\, 1 pm\, and 6 pm ET. Please choose the session time that works best with your schedule. Register here.
URL:https://www.afspa.org/events/retirement-strategies-for-women/2023-05-17/3/
LOCATION:WebEx
CATEGORIES:Ancillary Insurance Programs,Financial Wellness,Retirement
ATTACH;FMTTYPE=image/jpeg:https://www.afspa.org/wp-content/uploads/2023/04/happy-multiracial-senior-women-having-fun-together-2023-04-04-18-23-11-utc-scaled.jpg
END:VEVENT
BEGIN:VEVENT
DTSTART;TZID=America/New_York:20230524T090000
DTEND;TZID=America/New_York:20230524T160000
DTSTAMP:20260423T033244
CREATED:20230407T020449Z
LAST-MODIFIED:20230407T020653Z
UID:10000488-1684918800-1684944000@www.afspa.org
SUMMARY:Financial Wellness Check Ups
DESCRIPTION:AFSPA Members: Your dedicated Prudential Pathways Financial Professional is available for 30-minute Financial Wellness Checkups to review your current financial situation and to help you navigate future financial challenges with confidence. They will be available between 9am – 4pm ET.  Register now.
URL:https://www.afspa.org/events/financial-wellness-check-ups/
LOCATION:WebEx
CATEGORIES:Ancillary Insurance Programs,Financial Wellness
ATTACH;FMTTYPE=image/jpeg:https://www.afspa.org/wp-content/uploads/2023/04/successful-intelligent-mixed-race-business-woman-2022-11-19-08-12-56-utc.jpg
END:VEVENT
END:VCALENDAR