BEGIN:VCALENDAR
VERSION:2.0
PRODID:-//AFSPA - ECPv6.15.20//NONSGML v1.0//EN
CALSCALE:GREGORIAN
METHOD:PUBLISH
X-WR-CALNAME:AFSPA
X-ORIGINAL-URL:https://www.afspa.org
X-WR-CALDESC:Events for AFSPA
REFRESH-INTERVAL;VALUE=DURATION:PT1H
X-Robots-Tag:noindex
X-PUBLISHED-TTL:PT1H
BEGIN:VTIMEZONE
TZID:America/New_York
BEGIN:DAYLIGHT
TZOFFSETFROM:-0500
TZOFFSETTO:-0400
TZNAME:EDT
DTSTART:20220313T070000
END:DAYLIGHT
BEGIN:STANDARD
TZOFFSETFROM:-0400
TZOFFSETTO:-0500
TZNAME:EST
DTSTART:20221106T060000
END:STANDARD
BEGIN:DAYLIGHT
TZOFFSETFROM:-0500
TZOFFSETTO:-0400
TZNAME:EDT
DTSTART:20230312T070000
END:DAYLIGHT
BEGIN:STANDARD
TZOFFSETFROM:-0400
TZOFFSETTO:-0500
TZNAME:EST
DTSTART:20231105T060000
END:STANDARD
BEGIN:DAYLIGHT
TZOFFSETFROM:-0500
TZOFFSETTO:-0400
TZNAME:EDT
DTSTART:20240310T070000
END:DAYLIGHT
BEGIN:STANDARD
TZOFFSETFROM:-0400
TZOFFSETTO:-0500
TZNAME:EST
DTSTART:20241103T060000
END:STANDARD
END:VTIMEZONE
BEGIN:VEVENT
DTSTART;TZID=America/New_York:20231011T080000
DTEND;TZID=America/New_York:20231011T090000
DTSTAMP:20260423T130558
CREATED:20230920T062324Z
LAST-MODIFIED:20230920T062350Z
UID:10000519-1697011200-1697014800@www.afspa.org
SUMMARY:How Insurance Can Help Protect Your Financial Wellness
DESCRIPTION:This session will discuss how life\, health\, auto\, disability\, long-term care\, and homeowner’s insurance can play an important role in your asset protection plan.  This webinar will be available at three different times: 8:00 am\, 1:00 pm\, and 6:00 pm ET. Register here.
URL:https://www.afspa.org/events/how-insurance-can-help-protect-your-financial-wellness/2023-10-11/1/
LOCATION:ZOOM
CATEGORIES:Ancillary Insurance Programs,Financial Wellness
ATTACH;FMTTYPE=image/jpeg:https://www.afspa.org/wp-content/uploads/2023/09/happy-family-having-fun-together-scaled.jpg
END:VEVENT
BEGIN:VEVENT
DTSTART;TZID=America/New_York:20231011T130000
DTEND;TZID=America/New_York:20231011T140000
DTSTAMP:20260423T130558
CREATED:20230920T062324Z
LAST-MODIFIED:20230920T062350Z
UID:10000520-1697029200-1697032800@www.afspa.org
SUMMARY:How Insurance Can Help Protect Your Financial Wellness
DESCRIPTION:This session will discuss how life\, health\, auto\, disability\, long-term care\, and homeowner’s insurance can play an important role in your asset protection plan.  This webinar will be available at three different times: 8:00 am\, 1:00 pm\, and 6:00 pm ET. Register here.
URL:https://www.afspa.org/events/how-insurance-can-help-protect-your-financial-wellness/2023-10-11/2/
LOCATION:ZOOM
CATEGORIES:Ancillary Insurance Programs,Financial Wellness
ATTACH;FMTTYPE=image/jpeg:https://www.afspa.org/wp-content/uploads/2023/09/happy-family-having-fun-together-scaled.jpg
END:VEVENT
BEGIN:VEVENT
DTSTART;TZID=America/New_York:20231011T180000
DTEND;TZID=America/New_York:20231011T190000
DTSTAMP:20260423T130558
CREATED:20230920T062324Z
LAST-MODIFIED:20230920T062350Z
UID:10000521-1697047200-1697050800@www.afspa.org
SUMMARY:How Insurance Can Help Protect Your Financial Wellness
DESCRIPTION:This session will discuss how life\, health\, auto\, disability\, long-term care\, and homeowner’s insurance can play an important role in your asset protection plan.  This webinar will be available at three different times: 8:00 am\, 1:00 pm\, and 6:00 pm ET. Register here.
URL:https://www.afspa.org/events/how-insurance-can-help-protect-your-financial-wellness/2023-10-11/3/
LOCATION:ZOOM
CATEGORIES:Ancillary Insurance Programs,Financial Wellness
ATTACH;FMTTYPE=image/jpeg:https://www.afspa.org/wp-content/uploads/2023/09/happy-family-having-fun-together-scaled.jpg
END:VEVENT
BEGIN:VEVENT
DTSTART;TZID=America/New_York:20231018T090000
DTEND;TZID=America/New_York:20231018T160000
DTSTAMP:20260423T130558
CREATED:20230920T063537Z
LAST-MODIFIED:20230920T063625Z
UID:10000518-1697619600-1697644800@www.afspa.org
SUMMARY:Financial Wellness Check Up - 10/18
DESCRIPTION:al If you’re an AFSPA member\, you can schedule an appointment with a financial professional who can assist you in evaluating your financial objectives\, addressing concerns related to overall financial health\, providing clarity on your benefit plan\, and optimizing its usage. These specialists will be accessible from 9:00 am to 4:00 pm ET. Register now to make an appointment.
URL:https://www.afspa.org/events/financial-wellness-check-up-10-18/
LOCATION:ZOOM
CATEGORIES:Ancillary Insurance Programs,Financial Wellness
ATTACH;FMTTYPE=image/jpeg:https://www.afspa.org/wp-content/uploads/2023/02/cheerful-financiers-pointing-on-documents-in-offic-2022-12-16-18-48-17-utc-scaled.jpg
END:VEVENT
BEGIN:VEVENT
DTSTART;TZID=America/New_York:20231026T110000
DTEND;TZID=America/New_York:20231026T113000
DTSTAMP:20260423T130558
CREATED:20231023T112152Z
LAST-MODIFIED:20231023T113419Z
UID:10000532-1698318000-1698319800@www.afspa.org
SUMMARY:AFSPA Live Q&A: Federal Long Term Care Insurance Program (FLTCIP)
DESCRIPTION:Join us for a live Q&A session on Thursday\, October 26th\, at 11:00 am ET. During the session\, you can get all your questions answered regarding the recent changes to the FLTCIP and learn about AFSPA’s Federal Long Term Care consulting services. We hope you will participate in the session and look forward to seeing you there! Watch the live broadcast here. \n\nSend any questions you want to be answered during the show by filling out this form: https://forms.office.com/r/yB2h8ypdK3 \nLeave your question(s) in the comment section of our live broadcast video.\nCall a toll-free number 1-888-435-0757 to leave a voicemail message with your question(s). In your message\, tell us your name\, and where you’re calling from\, and state your question(s).
URL:https://www.afspa.org/events/afspa-live-qa-federal-long-term-care-insurance-program-fltcip/
CATEGORIES:Ancillary Insurance Programs,Federal Long Term Care,Financial Wellness,Retirement
ATTACH;FMTTYPE=image/png:https://www.afspa.org/wp-content/uploads/2023/10/AFSPA-Live-Federal-LTC.png
END:VEVENT
END:VCALENDAR