BEGIN:VCALENDAR
VERSION:2.0
PRODID:-//AFSPA - ECPv6.15.20//NONSGML v1.0//EN
CALSCALE:GREGORIAN
METHOD:PUBLISH
X-WR-CALNAME:AFSPA
X-ORIGINAL-URL:https://www.afspa.org
X-WR-CALDESC:Events for AFSPA
REFRESH-INTERVAL;VALUE=DURATION:PT1H
X-Robots-Tag:noindex
X-PUBLISHED-TTL:PT1H
BEGIN:VTIMEZONE
TZID:America/New_York
BEGIN:DAYLIGHT
TZOFFSETFROM:-0500
TZOFFSETTO:-0400
TZNAME:EDT
DTSTART:20230312T070000
END:DAYLIGHT
BEGIN:STANDARD
TZOFFSETFROM:-0400
TZOFFSETTO:-0500
TZNAME:EST
DTSTART:20231105T060000
END:STANDARD
BEGIN:DAYLIGHT
TZOFFSETFROM:-0500
TZOFFSETTO:-0400
TZNAME:EDT
DTSTART:20240310T070000
END:DAYLIGHT
BEGIN:STANDARD
TZOFFSETFROM:-0400
TZOFFSETTO:-0500
TZNAME:EST
DTSTART:20241103T060000
END:STANDARD
BEGIN:DAYLIGHT
TZOFFSETFROM:-0500
TZOFFSETTO:-0400
TZNAME:EDT
DTSTART:20250309T070000
END:DAYLIGHT
BEGIN:STANDARD
TZOFFSETFROM:-0400
TZOFFSETTO:-0500
TZNAME:EST
DTSTART:20251102T060000
END:STANDARD
END:VTIMEZONE
BEGIN:VEVENT
DTSTART;TZID=America/New_York:20240213T080000
DTEND;TZID=America/New_York:20240213T090000
DTSTAMP:20260423T225704
CREATED:20240125T153046Z
LAST-MODIFIED:20240125T153046Z
UID:10000557-1707811200-1707814800@www.afspa.org
SUMMARY:Is Your Financial House in Order?
DESCRIPTION:This session will cover key concepts such as budgeting\, debt management\, protection of assets\, preparing for retirement\, and creating a financial legacy for your loved ones. Register here.
URL:https://www.afspa.org/events/is-your-financial-house-in-order/2024-02-13/1/
LOCATION:ZOOM
CATEGORIES:Ancillary Insurance Programs,Financial Wellness
ATTACH;FMTTYPE=image/jpeg:https://www.afspa.org/wp-content/uploads/2024/01/focused-woman-freelancer-in-glasses-scaled.jpg
END:VEVENT
BEGIN:VEVENT
DTSTART;TZID=America/New_York:20240213T130000
DTEND;TZID=America/New_York:20240213T140000
DTSTAMP:20260423T225704
CREATED:20240125T153046Z
LAST-MODIFIED:20240125T153046Z
UID:10000558-1707829200-1707832800@www.afspa.org
SUMMARY:Is Your Financial House in Order?
DESCRIPTION:This session will cover key concepts such as budgeting\, debt management\, protection of assets\, preparing for retirement\, and creating a financial legacy for your loved ones. Register here.
URL:https://www.afspa.org/events/is-your-financial-house-in-order/2024-02-13/2/
LOCATION:ZOOM
CATEGORIES:Ancillary Insurance Programs,Financial Wellness
ATTACH;FMTTYPE=image/jpeg:https://www.afspa.org/wp-content/uploads/2024/01/focused-woman-freelancer-in-glasses-scaled.jpg
END:VEVENT
BEGIN:VEVENT
DTSTART;TZID=America/New_York:20240213T180000
DTEND;TZID=America/New_York:20240213T190000
DTSTAMP:20260423T225704
CREATED:20240125T153046Z
LAST-MODIFIED:20240125T153046Z
UID:10000559-1707847200-1707850800@www.afspa.org
SUMMARY:Is Your Financial House in Order?
DESCRIPTION:This session will cover key concepts such as budgeting\, debt management\, protection of assets\, preparing for retirement\, and creating a financial legacy for your loved ones. Register here.
URL:https://www.afspa.org/events/is-your-financial-house-in-order/2024-02-13/3/
LOCATION:ZOOM
CATEGORIES:Ancillary Insurance Programs,Financial Wellness
ATTACH;FMTTYPE=image/jpeg:https://www.afspa.org/wp-content/uploads/2024/01/focused-woman-freelancer-in-glasses-scaled.jpg
END:VEVENT
END:VCALENDAR