BEGIN:VCALENDAR
VERSION:2.0
PRODID:-//AFSPA - ECPv6.15.20//NONSGML v1.0//EN
CALSCALE:GREGORIAN
METHOD:PUBLISH
X-ORIGINAL-URL:https://www.afspa.org
X-WR-CALDESC:Events for AFSPA
REFRESH-INTERVAL;VALUE=DURATION:PT1H
X-Robots-Tag:noindex
X-PUBLISHED-TTL:PT1H
BEGIN:VTIMEZONE
TZID:America/New_York
BEGIN:DAYLIGHT
TZOFFSETFROM:-0500
TZOFFSETTO:-0400
TZNAME:EDT
DTSTART:20240310T070000
END:DAYLIGHT
BEGIN:STANDARD
TZOFFSETFROM:-0400
TZOFFSETTO:-0500
TZNAME:EST
DTSTART:20241103T060000
END:STANDARD
BEGIN:DAYLIGHT
TZOFFSETFROM:-0500
TZOFFSETTO:-0400
TZNAME:EDT
DTSTART:20250309T070000
END:DAYLIGHT
BEGIN:STANDARD
TZOFFSETFROM:-0400
TZOFFSETTO:-0500
TZNAME:EST
DTSTART:20251102T060000
END:STANDARD
BEGIN:DAYLIGHT
TZOFFSETFROM:-0500
TZOFFSETTO:-0400
TZNAME:EDT
DTSTART:20260308T070000
END:DAYLIGHT
BEGIN:STANDARD
TZOFFSETFROM:-0400
TZOFFSETTO:-0500
TZNAME:EST
DTSTART:20261101T060000
END:STANDARD
END:VTIMEZONE
BEGIN:VEVENT
DTSTART;TZID=America/New_York:20250506T080000
DTEND;TZID=America/New_York:20250506T090000
DTSTAMP:20260419T092038
CREATED:20250409T153248Z
LAST-MODIFIED:20250409T153249Z
UID:10000690-1746518400-1746522000@www.afspa.org
SUMMARY:Managing Employment Change
DESCRIPTION:This session helps you understand your options for unemployment compensation and health insurance replacement and discuss ways to protect your retirement savings. It will also cover topics like which benefits will go with you\, maintaining financial wellness during the transition\, unemployment compensation and managing cash flow\, and more. We offer this webinar in three sessions: 8 a.m.\, 1 p.m.\, and 6 p.m. ET. Please choose the session time that works best with your schedule.
URL:https://www.afspa.org/events/managing-employment-change-2/2025-05-06/1/
LOCATION:ZOOM
CATEGORIES:Ancillary Insurance Programs,Financial Wellness
ATTACH;FMTTYPE=image/jpeg:https://www.afspa.org/wp-content/uploads/2025/04/Managing-Employment-Change.jpeg
END:VEVENT
BEGIN:VEVENT
DTSTART;TZID=America/New_York:20250506T130000
DTEND;TZID=America/New_York:20250506T140000
DTSTAMP:20260419T092038
CREATED:20250409T153248Z
LAST-MODIFIED:20250409T153249Z
UID:10000691-1746536400-1746540000@www.afspa.org
SUMMARY:Managing Employment Change
DESCRIPTION:This session helps you understand your options for unemployment compensation and health insurance replacement and discuss ways to protect your retirement savings. It will also cover topics like which benefits will go with you\, maintaining financial wellness during the transition\, unemployment compensation and managing cash flow\, and more. We offer this webinar in three sessions: 8 a.m.\, 1 p.m.\, and 6 p.m. ET. Please choose the session time that works best with your schedule.
URL:https://www.afspa.org/events/managing-employment-change-2/2025-05-06/2/
LOCATION:ZOOM
CATEGORIES:Ancillary Insurance Programs,Financial Wellness
ATTACH;FMTTYPE=image/jpeg:https://www.afspa.org/wp-content/uploads/2025/04/Managing-Employment-Change.jpeg
END:VEVENT
BEGIN:VEVENT
DTSTART;TZID=America/New_York:20250506T180000
DTEND;TZID=America/New_York:20250506T190000
DTSTAMP:20260419T092038
CREATED:20250409T153248Z
LAST-MODIFIED:20250409T153249Z
UID:10000692-1746554400-1746558000@www.afspa.org
SUMMARY:Managing Employment Change
DESCRIPTION:This session helps you understand your options for unemployment compensation and health insurance replacement and discuss ways to protect your retirement savings. It will also cover topics like which benefits will go with you\, maintaining financial wellness during the transition\, unemployment compensation and managing cash flow\, and more. We offer this webinar in three sessions: 8 a.m.\, 1 p.m.\, and 6 p.m. ET. Please choose the session time that works best with your schedule.
URL:https://www.afspa.org/events/managing-employment-change-2/2025-05-06/3/
LOCATION:ZOOM
CATEGORIES:Ancillary Insurance Programs,Financial Wellness
ATTACH;FMTTYPE=image/jpeg:https://www.afspa.org/wp-content/uploads/2025/04/Managing-Employment-Change.jpeg
END:VEVENT
END:VCALENDAR