BEGIN:VCALENDAR
VERSION:2.0
PRODID:-//AFSPA - ECPv6.15.20//NONSGML v1.0//EN
CALSCALE:GREGORIAN
METHOD:PUBLISH
X-ORIGINAL-URL:https://www.afspa.org
X-WR-CALDESC:Events for AFSPA
REFRESH-INTERVAL;VALUE=DURATION:PT1H
X-Robots-Tag:noindex
X-PUBLISHED-TTL:PT1H
BEGIN:VTIMEZONE
TZID:America/New_York
BEGIN:DAYLIGHT
TZOFFSETFROM:-0500
TZOFFSETTO:-0400
TZNAME:EDT
DTSTART:20230312T070000
END:DAYLIGHT
BEGIN:STANDARD
TZOFFSETFROM:-0400
TZOFFSETTO:-0500
TZNAME:EST
DTSTART:20231105T060000
END:STANDARD
BEGIN:DAYLIGHT
TZOFFSETFROM:-0500
TZOFFSETTO:-0400
TZNAME:EDT
DTSTART:20240310T070000
END:DAYLIGHT
BEGIN:STANDARD
TZOFFSETFROM:-0400
TZOFFSETTO:-0500
TZNAME:EST
DTSTART:20241103T060000
END:STANDARD
BEGIN:DAYLIGHT
TZOFFSETFROM:-0500
TZOFFSETTO:-0400
TZNAME:EDT
DTSTART:20250309T070000
END:DAYLIGHT
BEGIN:STANDARD
TZOFFSETFROM:-0400
TZOFFSETTO:-0500
TZNAME:EST
DTSTART:20251102T060000
END:STANDARD
END:VTIMEZONE
BEGIN:VEVENT
DTSTART;TZID=America/New_York:20240416T130000
DTEND;TZID=America/New_York:20240416T140000
DTSTAMP:20260422T211342
CREATED:20240311T201503Z
LAST-MODIFIED:20240311T201612Z
UID:10000567-1713272400-1713276000@www.afspa.org
SUMMARY:College Funding Methods
DESCRIPTION:Paying for college is one of the major financial decisions you will face in life. This session will provide strategies to save for college\, including 529 College Savings Plans and Coverdell Education Savings Accounts. Register here.
URL:https://www.afspa.org/events/college-funding-methods-2/2024-04-16/2/
LOCATION:ZOOM
CATEGORIES:Ancillary Insurance Programs,Financial Wellness
ATTACH;FMTTYPE=image/jpeg:https://www.afspa.org/wp-content/uploads/2024/03/pigging-bank-wearing-eyeglass-with-coins-scaled.jpg
END:VEVENT
BEGIN:VEVENT
DTSTART;TZID=America/New_York:20240416T180000
DTEND;TZID=America/New_York:20240416T190000
DTSTAMP:20260422T211342
CREATED:20240311T201503Z
LAST-MODIFIED:20240311T201612Z
UID:10000568-1713290400-1713294000@www.afspa.org
SUMMARY:College Funding Methods
DESCRIPTION:Paying for college is one of the major financial decisions you will face in life. This session will provide strategies to save for college\, including 529 College Savings Plans and Coverdell Education Savings Accounts. Register here.
URL:https://www.afspa.org/events/college-funding-methods-2/2024-04-16/3/
LOCATION:ZOOM
CATEGORIES:Ancillary Insurance Programs,Financial Wellness
ATTACH;FMTTYPE=image/jpeg:https://www.afspa.org/wp-content/uploads/2024/03/pigging-bank-wearing-eyeglass-with-coins-scaled.jpg
END:VEVENT
BEGIN:VEVENT
DTSTART;TZID=America/New_York:20240423T100000
DTEND;TZID=America/New_York:20240423T160000
DTSTAMP:20260422T211342
CREATED:20240311T203130Z
LAST-MODIFIED:20240311T203130Z
UID:10000572-1713866400-1713888000@www.afspa.org
SUMMARY:Financial Wellness Check-Up
DESCRIPTION:AFSPA members can schedule an appointment with a financial professional who can assist you in evaluating your financial objectives\, addressing concerns related to overall financial health\, providing clarity on your benefit plan\, and optimizing its usage. These specialists will be accessible from 10:00 am to 4:00 pm ET. Register now to make an appointment.
URL:https://www.afspa.org/events/financial-wellness-check-up-7/2024-04-23/
LOCATION:ZOOM
CATEGORIES:Ancillary Insurance Programs,Financial Wellness
ATTACH;FMTTYPE=image/jpeg:https://www.afspa.org/wp-content/uploads/2024/03/successful-business-woman-financier-scaled.jpg
END:VEVENT
BEGIN:VEVENT
DTSTART;TZID=America/New_York:20240514T080000
DTEND;TZID=America/New_York:20240514T090000
DTSTAMP:20260422T211342
CREATED:20240311T202218Z
LAST-MODIFIED:20240422T111458Z
UID:10000569-1715673600-1715677200@www.afspa.org
SUMMARY:Advanced Asset Distribution Strategies
DESCRIPTION:Attend this session to learn more about distribution of assets and tax sensitivity\, strategic deferred compensation\, and how the assets you’ve accumulated can ensure an income stream in retirement. Register here.
URL:https://www.afspa.org/events/advanced-asset-distribution-strategies/2024-05-14/1/
LOCATION:ZOOM
CATEGORIES:Ancillary Insurance Programs,Financial Wellness
ATTACH;FMTTYPE=image/jpeg:https://www.afspa.org/wp-content/uploads/2024/03/the-financiers-are-calculating-personal-taxes-scaled.jpg
END:VEVENT
BEGIN:VEVENT
DTSTART;TZID=America/New_York:20240514T130000
DTEND;TZID=America/New_York:20240514T140000
DTSTAMP:20260422T211342
CREATED:20240311T202218Z
LAST-MODIFIED:20240422T111458Z
UID:10000570-1715691600-1715695200@www.afspa.org
SUMMARY:Advanced Asset Distribution Strategies
DESCRIPTION:Attend this session to learn more about distribution of assets and tax sensitivity\, strategic deferred compensation\, and how the assets you’ve accumulated can ensure an income stream in retirement. Register here.
URL:https://www.afspa.org/events/advanced-asset-distribution-strategies/2024-05-14/2/
LOCATION:ZOOM
CATEGORIES:Ancillary Insurance Programs,Financial Wellness
ATTACH;FMTTYPE=image/jpeg:https://www.afspa.org/wp-content/uploads/2024/03/the-financiers-are-calculating-personal-taxes-scaled.jpg
END:VEVENT
BEGIN:VEVENT
DTSTART;TZID=America/New_York:20240514T180000
DTEND;TZID=America/New_York:20240514T190000
DTSTAMP:20260422T211342
CREATED:20240311T202218Z
LAST-MODIFIED:20240422T111458Z
UID:10000571-1715709600-1715713200@www.afspa.org
SUMMARY:Advanced Asset Distribution Strategies
DESCRIPTION:Attend this session to learn more about distribution of assets and tax sensitivity\, strategic deferred compensation\, and how the assets you’ve accumulated can ensure an income stream in retirement. Register here.
URL:https://www.afspa.org/events/advanced-asset-distribution-strategies/2024-05-14/3/
LOCATION:ZOOM
CATEGORIES:Ancillary Insurance Programs,Financial Wellness
ATTACH;FMTTYPE=image/jpeg:https://www.afspa.org/wp-content/uploads/2024/03/the-financiers-are-calculating-personal-taxes-scaled.jpg
END:VEVENT
BEGIN:VEVENT
DTSTART;TZID=America/New_York:20240521T090000
DTEND;TZID=America/New_York:20240521T170000
DTSTAMP:20260422T211342
CREATED:20240422T113622Z
LAST-MODIFIED:20240422T113622Z
UID:10000578-1716282000-1716310800@www.afspa.org
SUMMARY:Financial Wellness Check-up
DESCRIPTION:AFSPA members can schedule an appointment with a financial professional who can assist you in evaluating your financial objectives\, addressing concerns related to overall financial health\, providing clarity on your benefit plan\, and optimizing its usage. These specialists will be accessible from 9:00 am to 5:00 pm ET. Register now to make an appointment.
URL:https://www.afspa.org/events/financial-wellness-check-up-8/2024-05-21/
LOCATION:ZOOM
CATEGORIES:Ancillary Insurance Programs,Financial Wellness
ATTACH;FMTTYPE=image/jpeg:https://www.afspa.org/wp-content/uploads/2024/04/portrait-of-business-asian-woman-finances-scaled.jpg
END:VEVENT
BEGIN:VEVENT
DTSTART;TZID=America/New_York:20240522T090000
DTEND;TZID=America/New_York:20240522T170000
DTSTAMP:20260422T211342
CREATED:20240422T113622Z
LAST-MODIFIED:20240422T113622Z
UID:10000579-1716368400-1716397200@www.afspa.org
SUMMARY:Financial Wellness Check-up
DESCRIPTION:AFSPA members can schedule an appointment with a financial professional who can assist you in evaluating your financial objectives\, addressing concerns related to overall financial health\, providing clarity on your benefit plan\, and optimizing its usage. These specialists will be accessible from 9:00 am to 5:00 pm ET. Register now to make an appointment.
URL:https://www.afspa.org/events/financial-wellness-check-up-8/2024-05-22/
LOCATION:ZOOM
CATEGORIES:Ancillary Insurance Programs,Financial Wellness
ATTACH;FMTTYPE=image/jpeg:https://www.afspa.org/wp-content/uploads/2024/04/portrait-of-business-asian-woman-finances-scaled.jpg
END:VEVENT
BEGIN:VEVENT
DTSTART;TZID=America/New_York:20240625T100000
DTEND;TZID=America/New_York:20240625T160000
DTSTAMP:20260422T211342
CREATED:20240311T203130Z
LAST-MODIFIED:20240311T203130Z
UID:10000573-1719309600-1719331200@www.afspa.org
SUMMARY:Financial Wellness Check-Up
DESCRIPTION:AFSPA members can schedule an appointment with a financial professional who can assist you in evaluating your financial objectives\, addressing concerns related to overall financial health\, providing clarity on your benefit plan\, and optimizing its usage. These specialists will be accessible from 10:00 am to 4:00 pm ET. Register now to make an appointment.
URL:https://www.afspa.org/events/financial-wellness-check-up-7/2024-06-25/
LOCATION:ZOOM
CATEGORIES:Ancillary Insurance Programs,Financial Wellness
ATTACH;FMTTYPE=image/jpeg:https://www.afspa.org/wp-content/uploads/2024/03/successful-business-woman-financier-scaled.jpg
END:VEVENT
BEGIN:VEVENT
DTSTART;TZID=America/New_York:20240716T080000
DTEND;TZID=America/New_York:20240716T090000
DTSTAMP:20260422T211342
CREATED:20240621T065809Z
LAST-MODIFIED:20240621T065809Z
UID:10000586-1721116800-1721120400@www.afspa.org
SUMMARY:Advanced Asset Accumulation Strategies
DESCRIPTION:This session will help you gain a better understanding of the financial concepts behind investing within your portfolio\, tax planning\, wealth creating and preservation\, risk management\, as well as protecting your assets. Learn how to effectively accumulate and distribute deferred compensation funds and common stock options and grants. Register here.
URL:https://www.afspa.org/events/advanced-asset-accumulation-strategies/2024-07-16/1/
LOCATION:ZOOM
CATEGORIES:Ancillary Insurance Programs,Financial Wellness
ATTACH;FMTTYPE=image/jpeg:https://www.afspa.org/wp-content/uploads/2024/06/two-businessmen-at-work-scaled.jpg
END:VEVENT
BEGIN:VEVENT
DTSTART;TZID=America/New_York:20240716T130000
DTEND;TZID=America/New_York:20240716T140000
DTSTAMP:20260422T211342
CREATED:20240621T065809Z
LAST-MODIFIED:20240621T065809Z
UID:10000587-1721134800-1721138400@www.afspa.org
SUMMARY:Advanced Asset Accumulation Strategies
DESCRIPTION:This session will help you gain a better understanding of the financial concepts behind investing within your portfolio\, tax planning\, wealth creating and preservation\, risk management\, as well as protecting your assets. Learn how to effectively accumulate and distribute deferred compensation funds and common stock options and grants. Register here.
URL:https://www.afspa.org/events/advanced-asset-accumulation-strategies/2024-07-16/2/
LOCATION:ZOOM
CATEGORIES:Ancillary Insurance Programs,Financial Wellness
ATTACH;FMTTYPE=image/jpeg:https://www.afspa.org/wp-content/uploads/2024/06/two-businessmen-at-work-scaled.jpg
END:VEVENT
BEGIN:VEVENT
DTSTART;TZID=America/New_York:20240716T180000
DTEND;TZID=America/New_York:20240716T190000
DTSTAMP:20260422T211342
CREATED:20240621T065809Z
LAST-MODIFIED:20240621T065809Z
UID:10000588-1721152800-1721156400@www.afspa.org
SUMMARY:Advanced Asset Accumulation Strategies
DESCRIPTION:This session will help you gain a better understanding of the financial concepts behind investing within your portfolio\, tax planning\, wealth creating and preservation\, risk management\, as well as protecting your assets. Learn how to effectively accumulate and distribute deferred compensation funds and common stock options and grants. Register here.
URL:https://www.afspa.org/events/advanced-asset-accumulation-strategies/2024-07-16/3/
LOCATION:ZOOM
CATEGORIES:Ancillary Insurance Programs,Financial Wellness
ATTACH;FMTTYPE=image/jpeg:https://www.afspa.org/wp-content/uploads/2024/06/two-businessmen-at-work-scaled.jpg
END:VEVENT
BEGIN:VEVENT
DTSTART;TZID=America/New_York:20240723T090000
DTEND;TZID=America/New_York:20240723T170000
DTSTAMP:20260422T211342
CREATED:20240621T070741Z
LAST-MODIFIED:20241028T194955Z
UID:10000589-1721725200-1721754000@www.afspa.org
SUMMARY:Financial Wellness Check-up
DESCRIPTION:AFSPA members can schedule an appointment with a financial professional who can assist you in evaluating your financial objectives\, addressing concerns related to overall financial health\, providing clarity on your benefit plan\, and optimizing its usage. Register now to make an appointment.
URL:https://www.afspa.org/events/financial-wellness-check-up-9/2024-07-23/
LOCATION:ZOOM
CATEGORIES:Ancillary Insurance Programs,Financial Wellness
ATTACH;FMTTYPE=image/jpeg:https://www.afspa.org/wp-content/uploads/2024/06/teamwork-planning-and-laptop-with-business-people-scaled.jpg
END:VEVENT
BEGIN:VEVENT
DTSTART;TZID=America/New_York:20240724T090000
DTEND;TZID=America/New_York:20240724T170000
DTSTAMP:20260422T211342
CREATED:20240621T070741Z
LAST-MODIFIED:20241028T194955Z
UID:10000590-1721811600-1721840400@www.afspa.org
SUMMARY:Financial Wellness Check-up
DESCRIPTION:AFSPA members can schedule an appointment with a financial professional who can assist you in evaluating your financial objectives\, addressing concerns related to overall financial health\, providing clarity on your benefit plan\, and optimizing its usage. Register now to make an appointment.
URL:https://www.afspa.org/events/financial-wellness-check-up-9/2024-07-24/
LOCATION:ZOOM
CATEGORIES:Ancillary Insurance Programs,Financial Wellness
ATTACH;FMTTYPE=image/jpeg:https://www.afspa.org/wp-content/uploads/2024/06/teamwork-planning-and-laptop-with-business-people-scaled.jpg
END:VEVENT
BEGIN:VEVENT
DTSTART;TZID=America/New_York:20240813T080000
DTEND;TZID=America/New_York:20240813T090000
DTSTAMP:20260422T211342
CREATED:20240621T071420Z
LAST-MODIFIED:20240621T071510Z
UID:10000591-1723536000-1723539600@www.afspa.org
SUMMARY:Steps to Buying and Selling a Home
DESCRIPTION:This session reviews the important decisions and steps that are needed when buying or selling a home. Register here.
URL:https://www.afspa.org/events/steps-to-buying-and-selling-a-home/2024-08-13/1/
LOCATION:ZOOM
CATEGORIES:Ancillary Insurance Programs,Financial Wellness
ATTACH;FMTTYPE=image/jpeg:https://www.afspa.org/wp-content/uploads/2024/06/happy-family-sold-board-and-new-home-together-scaled.jpg
END:VEVENT
BEGIN:VEVENT
DTSTART;TZID=America/New_York:20240813T130000
DTEND;TZID=America/New_York:20240813T140000
DTSTAMP:20260422T211342
CREATED:20240621T071420Z
LAST-MODIFIED:20240621T071510Z
UID:10000592-1723554000-1723557600@www.afspa.org
SUMMARY:Steps to Buying and Selling a Home
DESCRIPTION:This session reviews the important decisions and steps that are needed when buying or selling a home. Register here.
URL:https://www.afspa.org/events/steps-to-buying-and-selling-a-home/2024-08-13/2/
LOCATION:ZOOM
CATEGORIES:Ancillary Insurance Programs,Financial Wellness
ATTACH;FMTTYPE=image/jpeg:https://www.afspa.org/wp-content/uploads/2024/06/happy-family-sold-board-and-new-home-together-scaled.jpg
END:VEVENT
BEGIN:VEVENT
DTSTART;TZID=America/New_York:20240813T180000
DTEND;TZID=America/New_York:20240813T190000
DTSTAMP:20260422T211342
CREATED:20240621T071420Z
LAST-MODIFIED:20240621T071510Z
UID:10000593-1723572000-1723575600@www.afspa.org
SUMMARY:Steps to Buying and Selling a Home
DESCRIPTION:This session reviews the important decisions and steps that are needed when buying or selling a home. Register here.
URL:https://www.afspa.org/events/steps-to-buying-and-selling-a-home/2024-08-13/3/
LOCATION:ZOOM
CATEGORIES:Ancillary Insurance Programs,Financial Wellness
ATTACH;FMTTYPE=image/jpeg:https://www.afspa.org/wp-content/uploads/2024/06/happy-family-sold-board-and-new-home-together-scaled.jpg
END:VEVENT
BEGIN:VEVENT
DTSTART;TZID=America/New_York:20240820T100000
DTEND;TZID=America/New_York:20240820T160000
DTSTAMP:20260422T211342
CREATED:20240621T070741Z
LAST-MODIFIED:20241028T194955Z
UID:10000594-1724148000-1724169600@www.afspa.org
SUMMARY:Financial Wellness Check-up
DESCRIPTION:AFSPA members can schedule an appointment with a financial professional who can assist you in evaluating your financial objectives\, addressing concerns related to overall financial health\, providing clarity on your benefit plan\, and optimizing its usage. Register now to make an appointment.
URL:https://www.afspa.org/events/financial-wellness-check-up-9/2024-08-20/
LOCATION:ZOOM
CATEGORIES:Ancillary Insurance Programs,Financial Wellness
ATTACH;FMTTYPE=image/jpeg:https://www.afspa.org/wp-content/uploads/2024/06/teamwork-planning-and-laptop-with-business-people-scaled.jpg
END:VEVENT
BEGIN:VEVENT
DTSTART;TZID=America/New_York:20240821T090000
DTEND;TZID=America/New_York:20240821T170000
DTSTAMP:20260422T211342
CREATED:20240621T070741Z
LAST-MODIFIED:20241028T194955Z
UID:10000595-1724230800-1724259600@www.afspa.org
SUMMARY:Financial Wellness Check-up
DESCRIPTION:AFSPA members can schedule an appointment with a financial professional who can assist you in evaluating your financial objectives\, addressing concerns related to overall financial health\, providing clarity on your benefit plan\, and optimizing its usage. Register now to make an appointment.
URL:https://www.afspa.org/events/financial-wellness-check-up-9/2024-08-21/
LOCATION:ZOOM
CATEGORIES:Ancillary Insurance Programs,Financial Wellness
ATTACH;FMTTYPE=image/jpeg:https://www.afspa.org/wp-content/uploads/2024/06/teamwork-planning-and-laptop-with-business-people-scaled.jpg
END:VEVENT
BEGIN:VEVENT
DTSTART;TZID=America/New_York:20240924T090000
DTEND;TZID=America/New_York:20240924T170000
DTSTAMP:20260422T211342
CREATED:20240621T070741Z
LAST-MODIFIED:20241028T194955Z
UID:10000596-1727168400-1727197200@www.afspa.org
SUMMARY:Financial Wellness Check-up
DESCRIPTION:AFSPA members can schedule an appointment with a financial professional who can assist you in evaluating your financial objectives\, addressing concerns related to overall financial health\, providing clarity on your benefit plan\, and optimizing its usage. Register now to make an appointment.
URL:https://www.afspa.org/events/financial-wellness-check-up-9/2024-09-24/
LOCATION:ZOOM
CATEGORIES:Ancillary Insurance Programs,Financial Wellness
ATTACH;FMTTYPE=image/jpeg:https://www.afspa.org/wp-content/uploads/2024/06/teamwork-planning-and-laptop-with-business-people-scaled.jpg
END:VEVENT
BEGIN:VEVENT
DTSTART;TZID=America/New_York:20240925T090000
DTEND;TZID=America/New_York:20240925T170000
DTSTAMP:20260422T211342
CREATED:20240621T070741Z
LAST-MODIFIED:20241028T194955Z
UID:10000597-1727254800-1727283600@www.afspa.org
SUMMARY:Financial Wellness Check-up
DESCRIPTION:AFSPA members can schedule an appointment with a financial professional who can assist you in evaluating your financial objectives\, addressing concerns related to overall financial health\, providing clarity on your benefit plan\, and optimizing its usage. Register now to make an appointment.
URL:https://www.afspa.org/events/financial-wellness-check-up-9/2024-09-25/
LOCATION:ZOOM
CATEGORIES:Ancillary Insurance Programs,Financial Wellness
ATTACH;FMTTYPE=image/jpeg:https://www.afspa.org/wp-content/uploads/2024/06/teamwork-planning-and-laptop-with-business-people-scaled.jpg
END:VEVENT
BEGIN:VEVENT
DTSTART;TZID=America/New_York:20241015T080000
DTEND;TZID=America/New_York:20241015T090000
DTSTAMP:20260422T211342
CREATED:20241010T181401Z
LAST-MODIFIED:20241010T181827Z
UID:10000611-1728979200-1728982800@www.afspa.org
SUMMARY:Planning for the Financial Future of a Loved One with Special Needs
DESCRIPTION:Offered by specially trained financial professionals\, this session covers estate strategies\, guardianship\, and creating a Special Needs Trust. We offer this webinar in three sessions\, 8 am\, 1 pm\, and 6 pm ET. Please choose the session time that works best with your schedule. Register here.
URL:https://www.afspa.org/events/planning-for-the-financial-future-of-a-loved-one-with-special-needs-2/2024-10-15/1/
LOCATION:ZOOM
CATEGORIES:Ancillary Insurance Programs,Financial Wellness
ATTACH;FMTTYPE=image/jpeg:https://www.afspa.org/wp-content/uploads/2024/10/boy-with-down-syndrome-enjoying-art-class-scaled.jpg
END:VEVENT
BEGIN:VEVENT
DTSTART;TZID=America/New_York:20241015T130000
DTEND;TZID=America/New_York:20241015T140000
DTSTAMP:20260422T211342
CREATED:20241010T181401Z
LAST-MODIFIED:20241010T181827Z
UID:10000612-1728997200-1729000800@www.afspa.org
SUMMARY:Planning for the Financial Future of a Loved One with Special Needs
DESCRIPTION:Offered by specially trained financial professionals\, this session covers estate strategies\, guardianship\, and creating a Special Needs Trust. We offer this webinar in three sessions\, 8 am\, 1 pm\, and 6 pm ET. Please choose the session time that works best with your schedule. Register here.
URL:https://www.afspa.org/events/planning-for-the-financial-future-of-a-loved-one-with-special-needs-2/2024-10-15/2/
LOCATION:ZOOM
CATEGORIES:Ancillary Insurance Programs,Financial Wellness
ATTACH;FMTTYPE=image/jpeg:https://www.afspa.org/wp-content/uploads/2024/10/boy-with-down-syndrome-enjoying-art-class-scaled.jpg
END:VEVENT
BEGIN:VEVENT
DTSTART;TZID=America/New_York:20241015T180000
DTEND;TZID=America/New_York:20241015T190000
DTSTAMP:20260422T211342
CREATED:20241010T181401Z
LAST-MODIFIED:20241010T181827Z
UID:10000613-1729015200-1729018800@www.afspa.org
SUMMARY:Planning for the Financial Future of a Loved One with Special Needs
DESCRIPTION:Offered by specially trained financial professionals\, this session covers estate strategies\, guardianship\, and creating a Special Needs Trust. We offer this webinar in three sessions\, 8 am\, 1 pm\, and 6 pm ET. Please choose the session time that works best with your schedule. Register here.
URL:https://www.afspa.org/events/planning-for-the-financial-future-of-a-loved-one-with-special-needs-2/2024-10-15/3/
LOCATION:ZOOM
CATEGORIES:Ancillary Insurance Programs,Financial Wellness
ATTACH;FMTTYPE=image/jpeg:https://www.afspa.org/wp-content/uploads/2024/10/boy-with-down-syndrome-enjoying-art-class-scaled.jpg
END:VEVENT
BEGIN:VEVENT
DTSTART;TZID=America/New_York:20241112T080000
DTEND;TZID=America/New_York:20241112T090000
DTSTAMP:20260422T211342
CREATED:20241010T182843Z
LAST-MODIFIED:20241010T182843Z
UID:10000617-1731398400-1731402000@www.afspa.org
SUMMARY:Retirement & Insurance Planning in Your 50's and 60's
DESCRIPTION:This session will cover how to prepare for a successful transition into retirement. This includes how to manage cash flow\, mitigate retirement strategy risk\, and strategies for investing and protecting assets during retirement. Register here.
URL:https://www.afspa.org/events/retirement-insurance-planning-in-your-50s-and-60s/2024-11-12/1/
LOCATION:ZOOM
CATEGORIES:Ancillary Insurance Programs,Financial Wellness,Retirement
ATTACH;FMTTYPE=image/jpeg:https://www.afspa.org/wp-content/uploads/2024/10/what-should-we-do-with-our-savings-scaled.jpg
END:VEVENT
BEGIN:VEVENT
DTSTART;TZID=America/New_York:20241112T130000
DTEND;TZID=America/New_York:20241112T140000
DTSTAMP:20260422T211342
CREATED:20241010T182843Z
LAST-MODIFIED:20241010T182843Z
UID:10000618-1731416400-1731420000@www.afspa.org
SUMMARY:Retirement & Insurance Planning in Your 50's and 60's
DESCRIPTION:This session will cover how to prepare for a successful transition into retirement. This includes how to manage cash flow\, mitigate retirement strategy risk\, and strategies for investing and protecting assets during retirement. Register here.
URL:https://www.afspa.org/events/retirement-insurance-planning-in-your-50s-and-60s/2024-11-12/2/
LOCATION:ZOOM
CATEGORIES:Ancillary Insurance Programs,Financial Wellness,Retirement
ATTACH;FMTTYPE=image/jpeg:https://www.afspa.org/wp-content/uploads/2024/10/what-should-we-do-with-our-savings-scaled.jpg
END:VEVENT
BEGIN:VEVENT
DTSTART;TZID=America/New_York:20241112T180000
DTEND;TZID=America/New_York:20241112T190000
DTSTAMP:20260422T211342
CREATED:20241010T182843Z
LAST-MODIFIED:20241010T182843Z
UID:10000619-1731434400-1731438000@www.afspa.org
SUMMARY:Retirement & Insurance Planning in Your 50's and 60's
DESCRIPTION:This session will cover how to prepare for a successful transition into retirement. This includes how to manage cash flow\, mitigate retirement strategy risk\, and strategies for investing and protecting assets during retirement. Register here.
URL:https://www.afspa.org/events/retirement-insurance-planning-in-your-50s-and-60s/2024-11-12/3/
LOCATION:ZOOM
CATEGORIES:Ancillary Insurance Programs,Financial Wellness,Retirement
ATTACH;FMTTYPE=image/jpeg:https://www.afspa.org/wp-content/uploads/2024/10/what-should-we-do-with-our-savings-scaled.jpg
END:VEVENT
BEGIN:VEVENT
DTSTART;TZID=America/New_York:20241119T090000
DTEND;TZID=America/New_York:20241119T170000
DTSTAMP:20260422T211342
CREATED:20240621T070741Z
LAST-MODIFIED:20241028T194955Z
UID:10000624-1732006800-1732035600@www.afspa.org
SUMMARY:Financial Wellness Check-up
DESCRIPTION:AFSPA members can schedule an appointment with a financial professional who can assist you in evaluating your financial objectives\, addressing concerns related to overall financial health\, providing clarity on your benefit plan\, and optimizing its usage. Register now to make an appointment.
URL:https://www.afspa.org/events/financial-wellness-check-up-9/2024-11-19/
LOCATION:ZOOM
CATEGORIES:Ancillary Insurance Programs,Financial Wellness
ATTACH;FMTTYPE=image/jpeg:https://www.afspa.org/wp-content/uploads/2024/06/teamwork-planning-and-laptop-with-business-people-scaled.jpg
END:VEVENT
BEGIN:VEVENT
DTSTART;TZID=America/New_York:20241120T090000
DTEND;TZID=America/New_York:20241120T170000
DTSTAMP:20260422T211342
CREATED:20240621T070741Z
LAST-MODIFIED:20241028T194955Z
UID:10000625-1732093200-1732122000@www.afspa.org
SUMMARY:Financial Wellness Check-up
DESCRIPTION:AFSPA members can schedule an appointment with a financial professional who can assist you in evaluating your financial objectives\, addressing concerns related to overall financial health\, providing clarity on your benefit plan\, and optimizing its usage. Register now to make an appointment.
URL:https://www.afspa.org/events/financial-wellness-check-up-9/2024-11-20/
LOCATION:ZOOM
CATEGORIES:Ancillary Insurance Programs,Financial Wellness
ATTACH;FMTTYPE=image/jpeg:https://www.afspa.org/wp-content/uploads/2024/06/teamwork-planning-and-laptop-with-business-people-scaled.jpg
END:VEVENT
BEGIN:VEVENT
DTSTART;TZID=America/New_York:20241210T080000
DTEND;TZID=America/New_York:20241210T090000
DTSTAMP:20260422T211342
CREATED:20241010T193625Z
LAST-MODIFIED:20241010T193626Z
UID:10000620-1733817600-1733821200@www.afspa.org
SUMMARY:Fundamentals of Wills\, Trusts\, & Powers of Attorney
DESCRIPTION:In this session\, we will discuss best practices for ensuring your assets are distributed as you wish and to whom you wish. We offer this webinar in three sessions\, 8 am\, 1 pm\, and 6 pm ET. Please choose the session time that works best with your schedule. Register here.
URL:https://www.afspa.org/events/fundamentals-of-wills-trusts-powers-of-attorney/2024-12-10/1/
LOCATION:ZOOM
CATEGORIES:Ancillary Insurance Programs,Financial Wellness
ATTACH;FMTTYPE=image/jpeg:https://www.afspa.org/wp-content/uploads/2024/10/crunching-the-numbers-scaled.jpg
END:VEVENT
END:VCALENDAR