BEGIN:VCALENDAR
VERSION:2.0
PRODID:-//AFSPA - ECPv6.15.20//NONSGML v1.0//EN
CALSCALE:GREGORIAN
METHOD:PUBLISH
X-ORIGINAL-URL:https://www.afspa.org
X-WR-CALDESC:Events for AFSPA
REFRESH-INTERVAL;VALUE=DURATION:PT1H
X-Robots-Tag:noindex
X-PUBLISHED-TTL:PT1H
BEGIN:VTIMEZONE
TZID:America/New_York
BEGIN:DAYLIGHT
TZOFFSETFROM:-0500
TZOFFSETTO:-0400
TZNAME:EDT
DTSTART:20220313T070000
END:DAYLIGHT
BEGIN:STANDARD
TZOFFSETFROM:-0400
TZOFFSETTO:-0500
TZNAME:EST
DTSTART:20221106T060000
END:STANDARD
BEGIN:DAYLIGHT
TZOFFSETFROM:-0500
TZOFFSETTO:-0400
TZNAME:EDT
DTSTART:20230312T070000
END:DAYLIGHT
BEGIN:STANDARD
TZOFFSETFROM:-0400
TZOFFSETTO:-0500
TZNAME:EST
DTSTART:20231105T060000
END:STANDARD
BEGIN:DAYLIGHT
TZOFFSETFROM:-0500
TZOFFSETTO:-0400
TZNAME:EDT
DTSTART:20240310T070000
END:DAYLIGHT
BEGIN:STANDARD
TZOFFSETFROM:-0400
TZOFFSETTO:-0500
TZNAME:EST
DTSTART:20241103T060000
END:STANDARD
END:VTIMEZONE
BEGIN:VEVENT
DTSTART;TZID=America/New_York:20230315T080000
DTEND;TZID=America/New_York:20230315T090000
DTSTAMP:20260422T190509
CREATED:20230216T023312Z
LAST-MODIFIED:20230216T023314Z
UID:10000476-1678867200-1678870800@www.afspa.org
SUMMARY:Financial Mistakes to Avoid
DESCRIPTION:This session will provide best practices for avoiding financial mistakes that can impact your ability to grow and manage your income\, protect your assets\, and minimize debt. Register here.
URL:https://www.afspa.org/events/financial-mistakes-to-avoid/2023-03-15/1/
LOCATION:WebEx
CATEGORIES:Ancillary Insurance Programs,Financial Wellness,Wellness
ATTACH;FMTTYPE=image/jpeg:https://www.afspa.org/wp-content/uploads/2023/02/indignant-african-husband-gesturing-with-pencil-r-2021-08-31-05-06-23-utc-scaled.jpg
END:VEVENT
BEGIN:VEVENT
DTSTART;TZID=America/New_York:20230315T130000
DTEND;TZID=America/New_York:20230315T140000
DTSTAMP:20260422T190509
CREATED:20230216T023312Z
LAST-MODIFIED:20230216T023314Z
UID:10000477-1678885200-1678888800@www.afspa.org
SUMMARY:Financial Mistakes to Avoid
DESCRIPTION:This session will provide best practices for avoiding financial mistakes that can impact your ability to grow and manage your income\, protect your assets\, and minimize debt. Register here.
URL:https://www.afspa.org/events/financial-mistakes-to-avoid/2023-03-15/2/
LOCATION:WebEx
CATEGORIES:Ancillary Insurance Programs,Financial Wellness,Wellness
ATTACH;FMTTYPE=image/jpeg:https://www.afspa.org/wp-content/uploads/2023/02/indignant-african-husband-gesturing-with-pencil-r-2021-08-31-05-06-23-utc-scaled.jpg
END:VEVENT
BEGIN:VEVENT
DTSTART;TZID=America/New_York:20230315T180000
DTEND;TZID=America/New_York:20230315T190000
DTSTAMP:20260422T190509
CREATED:20230216T023312Z
LAST-MODIFIED:20230216T023314Z
UID:10000478-1678903200-1678906800@www.afspa.org
SUMMARY:Financial Mistakes to Avoid
DESCRIPTION:This session will provide best practices for avoiding financial mistakes that can impact your ability to grow and manage your income\, protect your assets\, and minimize debt. Register here.
URL:https://www.afspa.org/events/financial-mistakes-to-avoid/2023-03-15/3/
LOCATION:WebEx
CATEGORIES:Ancillary Insurance Programs,Financial Wellness,Wellness
ATTACH;FMTTYPE=image/jpeg:https://www.afspa.org/wp-content/uploads/2023/02/indignant-african-husband-gesturing-with-pencil-r-2021-08-31-05-06-23-utc-scaled.jpg
END:VEVENT
BEGIN:VEVENT
DTSTART;TZID=America/New_York:20230329T120000
DTEND;TZID=America/New_York:20230329T130000
DTSTAMP:20260422T190509
CREATED:20230323T063736Z
LAST-MODIFIED:20230323T063739Z
UID:10000483-1680091200-1680094800@www.afspa.org
SUMMARY:Women's Health: What's There to See in 2023?
DESCRIPTION:March is Women’s Health Month. Join us on Wednesday\, March 29th\, at 12:00 p.m. ET for a webinar discussion on women’s health. Our special guest presenter\, Dr. Courtney Lockhart\, MD\, Ph.D.\, will discuss the top health issues facing women today. She’ll go through the challenges presented to women as they try to maintain a healthy lifestyle and provide recommendations for the best ways to stay healthy. Register here.
URL:https://www.afspa.org/events/womens-health-whats-there-to-see-in-2023/
CATEGORIES:Health and Fitness,Wellness,Women's Health
ATTACH;FMTTYPE=image/jpeg:https://www.afspa.org/wp-content/uploads/2023/03/happy-senior-woman-and-black-female-caregiver-anal-2022-12-06-01-11-04-utc.jpg
END:VEVENT
END:VCALENDAR