BEGIN:VCALENDAR
VERSION:2.0
PRODID:-//AFSPA - ECPv6.15.20//NONSGML v1.0//EN
CALSCALE:GREGORIAN
METHOD:PUBLISH
X-ORIGINAL-URL:https://www.afspa.org
X-WR-CALDESC:Events for AFSPA
REFRESH-INTERVAL;VALUE=DURATION:PT1H
X-Robots-Tag:noindex
X-PUBLISHED-TTL:PT1H
BEGIN:VTIMEZONE
TZID:UTC
BEGIN:STANDARD
TZOFFSETFROM:+0000
TZOFFSETTO:+0000
TZNAME:UTC
DTSTART:20200101T000000
END:STANDARD
END:VTIMEZONE
BEGIN:VEVENT
DTSTART;VALUE=DATE:20210830
DTEND;VALUE=DATE:20210831
DTSTAMP:20260424T043217
CREATED:20210820T201745Z
LAST-MODIFIED:20210820T201745Z
UID:10000435-1630281600-1630367999@www.afspa.org
SUMMARY:AFSPA Talks Opioid Use Disorder
DESCRIPTION:In this episode of AFSPA Talks\, COO Kyle Longton brings us through a discussion on opioid use disorder with pharmacist Katherine Lurk and clinical psychologist Becky Parker. The three take an in depth look at the opioid epidemic\, removing the stigma surrounding opioid overdoses\, how to get help if you’re struggling with opioid misuse\, and more.
URL:https://www.afspa.org/events/afspa-talks-opioid-use-disorder/
CATEGORIES:Health and Fitness,Mental Wellness,Wellness
ATTACH;FMTTYPE=image/jpeg:https://www.afspa.org/wp-content/uploads/2021/08/Podcast-Preview-Banner-for-events-page-opioid-use-disorder.jpg
END:VEVENT
END:VCALENDAR