BEGIN:VCALENDAR
VERSION:2.0
PRODID:-//AFSPA - ECPv6.15.20//NONSGML v1.0//EN
CALSCALE:GREGORIAN
METHOD:PUBLISH
X-ORIGINAL-URL:https://www.afspa.org
X-WR-CALDESC:Events for AFSPA
REFRESH-INTERVAL;VALUE=DURATION:PT1H
X-Robots-Tag:noindex
X-PUBLISHED-TTL:PT1H
BEGIN:VTIMEZONE
TZID:America/New_York
BEGIN:DAYLIGHT
TZOFFSETFROM:-0500
TZOFFSETTO:-0400
TZNAME:EDT
DTSTART:20240310T070000
END:DAYLIGHT
BEGIN:STANDARD
TZOFFSETFROM:-0400
TZOFFSETTO:-0500
TZNAME:EST
DTSTART:20241103T060000
END:STANDARD
BEGIN:DAYLIGHT
TZOFFSETFROM:-0500
TZOFFSETTO:-0400
TZNAME:EDT
DTSTART:20250309T070000
END:DAYLIGHT
BEGIN:STANDARD
TZOFFSETFROM:-0400
TZOFFSETTO:-0500
TZNAME:EST
DTSTART:20251102T060000
END:STANDARD
BEGIN:DAYLIGHT
TZOFFSETFROM:-0500
TZOFFSETTO:-0400
TZNAME:EDT
DTSTART:20260308T070000
END:DAYLIGHT
BEGIN:STANDARD
TZOFFSETFROM:-0400
TZOFFSETTO:-0500
TZNAME:EST
DTSTART:20261101T060000
END:STANDARD
END:VTIMEZONE
BEGIN:VEVENT
DTSTART;TZID=America/New_York:20250731T110000
DTEND;TZID=America/New_York:20250731T113000
DTSTAMP:20260422T174859
CREATED:20250724T191803Z
LAST-MODIFIED:20250724T191803Z
UID:10000740-1753959600-1753961400@www.afspa.org
SUMMARY:AFSPA Live Q&A: Financial Wellness During Times of Transition
DESCRIPTION:Do you have questions about financial wellness during times of transition? You’re invited to join our live Q&A session on Thursday\, July 31\, at 11:00 AM ET. AFSPA’s COO\, Twanisha Johnson\, and Greg Klingler\, CFP®\, CPFA™\, ChFEBC℠ from GEBA\, will be available to answer your questions related to this topic. Watch the live broadcast here. \n\n\n Send any questions you want to be answered during the show by filling out this form: https://forms.office.com/r/QPzbfGB3aD \nLeave your question(s) in the comment section of our live broadcast video.\nCall a toll-free number 1-888-435-0757 to leave a voicemail message with your question(s). In your message\, tell us your name\, and where you’re calling from\, and state your question(s).
URL:https://www.afspa.org/events/afspa-live-qa-financial-wellness-during-times-of-transition/
CATEGORIES:Foreign Service Benefit Plan,Wellness
ATTACH;FMTTYPE=image/jpeg:https://www.afspa.org/wp-content/uploads/2025/07/IMG_3226.jpeg
END:VEVENT
BEGIN:VEVENT
DTSTART;TZID=America/New_York:20250828T110000
DTEND;TZID=America/New_York:20250828T113000
DTSTAMP:20260422T174859
CREATED:20250819T202233Z
LAST-MODIFIED:20250819T202556Z
UID:10000741-1756378800-1756380600@www.afspa.org
SUMMARY:AFSPA Live Q&A: Resetting for the Season - Mental Health and Family-Building
DESCRIPTION:Do you have questions about mental health and family-building in times of transition? You’re invited to join our live Q&A session on Thursday\, August 28\, at 11:00 AM ET. AFSPA’s CEO\, Kyle Longton\, along with Maven Clinic\, will be available to answer your questions related to this topic. Watch the live broadcast here. \n\n Send any questions you want to be answered during the show by filling out this form: https://forms.office.com/r/zVBV6TfYSf. \nLeave your question(s) in the comment section of our live broadcast video.\nCall a toll-free number 1-888-435-0757 to leave a voicemail message with your question(s). In your message\, tell us your name\, and where you’re calling from\, and state your question(s).
URL:https://www.afspa.org/events/afspa-live-qa-resetting-for-the-season-mental-health-and-family-building/
CATEGORIES:Foreign Service Benefit Plan,Mental Wellness,Stress Management,Wellness
ATTACH;FMTTYPE=image/png:https://www.afspa.org/wp-content/uploads/2025/08/Resetting-for-the-Season-Mental-Health-and-Family-Building-in-Times-of-Transition.png
END:VEVENT
BEGIN:VEVENT
DTSTART;TZID=America/New_York:20250925T110000
DTEND;TZID=America/New_York:20250925T113000
DTSTAMP:20260422T174859
CREATED:20250917T160042Z
LAST-MODIFIED:20250917T160042Z
UID:10000742-1758798000-1758799800@www.afspa.org
SUMMARY:AFSPA Live Q&A Session on 9/25: AFSPA Life Insurances
DESCRIPTION:Do you have questions about the different types of AFSPA Life Insurance? You’re invited to join our live Q&A session on Thursday\, September 25\, at 11:00 AM ET. AFSPA’s CEO\, Kyle Longton\, along with Maven Clinic\, will be available to answer your questions related to this topic. Watch the live broadcast here. \n\n Send any questions you want to be answered during the show by filling out this form: https://forms.office.com/r/Z6V1rrh3s1. \nLeave your question(s) in the comment section of our live broadcast video.\nCall a toll-free number 1-888-435-0757 to leave a voicemail message with your question(s). In your message\, tell us your name\, and where you’re calling from\, and state your question(s).
URL:https://www.afspa.org/events/afspa-live-qa-session-on-9-25-afspa-life-insurances/
CATEGORIES:Ancillary Insurance Programs,Life Insurance,Wellness
ATTACH;FMTTYPE=image/png:https://www.afspa.org/wp-content/uploads/2025/09/AFSPA-Life-Insurances.png
END:VEVENT
BEGIN:VEVENT
DTSTART;TZID=America/New_York:20251030T110000
DTEND;TZID=America/New_York:20251030T113000
DTSTAMP:20260422T174859
CREATED:20251022T150627Z
LAST-MODIFIED:20251022T151021Z
UID:10000751-1761822000-1761823800@www.afspa.org
SUMMARY:AFSPA Live Q&A Session on 10/30: Menopause Symptoms\, Stages\, and Treatments
DESCRIPTION:Do you have questions about menopause symptoms\, stages\, and treatments? You’re invited to join our live Q&A session on Thursday\, October 30\, at 11:00 AM ET. AFSPA’s CEO\, Kyle Longton\, along with Maven Clinic\, will be available to answer your questions related to this topic. Watch the live broadcast here. \n\n Send any questions you want to be answered during the show by filling out this form: https://forms.office.com/r/Tes1Fy8jaG. \nLeave your question(s) in the comment section of our live broadcast video.\nCall a toll-free number 1-888-435-0757 to leave a voicemail message with your question(s). In your message\, tell us your name\, and where you’re calling from\, and state your question(s).
URL:https://www.afspa.org/events/afspa-live-qa-session-on-10-30-menopause-symptoms-stages-and-treatments/
CATEGORIES:Foreign Service Benefit Plan,Life Insurance,Wellness,Women's Health
ATTACH;FMTTYPE=image/png:https://www.afspa.org/wp-content/uploads/2025/10/Menopause-.png
END:VEVENT
END:VCALENDAR