BEGIN:VCALENDAR
VERSION:2.0
PRODID:-//AFSPA - ECPv6.15.20//NONSGML v1.0//EN
CALSCALE:GREGORIAN
METHOD:PUBLISH
X-WR-CALNAME:AFSPA
X-ORIGINAL-URL:https://www.afspa.org
X-WR-CALDESC:Events for AFSPA
REFRESH-INTERVAL;VALUE=DURATION:PT1H
X-Robots-Tag:noindex
X-PUBLISHED-TTL:PT1H
BEGIN:VTIMEZONE
TZID:America/New_York
BEGIN:DAYLIGHT
TZOFFSETFROM:-0500
TZOFFSETTO:-0400
TZNAME:EDT
DTSTART:20250309T070000
END:DAYLIGHT
BEGIN:STANDARD
TZOFFSETFROM:-0400
TZOFFSETTO:-0500
TZNAME:EST
DTSTART:20251102T060000
END:STANDARD
BEGIN:DAYLIGHT
TZOFFSETFROM:-0500
TZOFFSETTO:-0400
TZNAME:EDT
DTSTART:20260308T070000
END:DAYLIGHT
BEGIN:STANDARD
TZOFFSETFROM:-0400
TZOFFSETTO:-0500
TZNAME:EST
DTSTART:20261101T060000
END:STANDARD
BEGIN:DAYLIGHT
TZOFFSETFROM:-0500
TZOFFSETTO:-0400
TZNAME:EDT
DTSTART:20270314T070000
END:DAYLIGHT
BEGIN:STANDARD
TZOFFSETFROM:-0400
TZOFFSETTO:-0500
TZNAME:EST
DTSTART:20271107T060000
END:STANDARD
END:VTIMEZONE
BEGIN:VEVENT
DTSTART;TZID=America/New_York:20260306T110000
DTEND;TZID=America/New_York:20260306T133000
DTSTAMP:20260420T030757
CREATED:20260210T203523Z
LAST-MODIFIED:20260210T203621Z
UID:10000786-1772794800-1772803800@www.afspa.org
SUMMARY:Annual AFSPA Member Meeting
DESCRIPTION:Join us for an exclusive meeting for AFSPA members. This is a great opportunity to get an overview of AFSPA’s planned activities for 2026\, meet our dedicated team\, and gain valuable insights into FEHB initiatives\, AFSPA and FSBP updates\, Medicare updates\, and much more. RSVP by February 27. 
URL:https://www.afspa.org/events/annual-afspa-member-meeting-4/
LOCATION:AFSPA Headquarters Office\, 1620 L Street NW\, Suite 800\, Washington\, DC\, 20036\, United States
CATEGORIES:Annual Meeting
ATTACH;FMTTYPE=image/png:https://www.afspa.org/wp-content/uploads/2026/02/Website-2026-AFSPA-Annual-Meeting-Save-the-Date.png
END:VEVENT
BEGIN:VEVENT
DTSTART;TZID=America/New_York:20260310T080000
DTEND;TZID=America/New_York:20260310T090000
DTSTAMP:20260420T030757
CREATED:20260113T195615Z
LAST-MODIFIED:20260113T195615Z
UID:10000778-1773129600-1773133200@www.afspa.org
SUMMARY:Healthcare in Retirement
DESCRIPTION:This seminar will discuss what Medicare covers\, out-of-pocket medical expenses\, and long-term care insurance. This seminar will also cover these topics: \n\nUnderstanding healthcare costs in retirement\nStrategies to cover healthcare costs\nThe ABCs of Medicare\n\nWe offer this webinar in three sessions: 8:00 a.m.\, 1:00 p.m.\, and 6:00 p.m. ET. Please choose the session time that works best with your schedule.
URL:https://www.afspa.org/events/healthcare-in-retirement-2/2026-03-10/1/
LOCATION:ZOOM
CATEGORIES:Aging,Estate Planning,Financial Wellness,Medicare,Retirement
ATTACH;FMTTYPE=image/png:https://www.afspa.org/wp-content/uploads/2026/01/Healthcare-in-Retirement.png
END:VEVENT
BEGIN:VEVENT
DTSTART;TZID=America/New_York:20260310T130000
DTEND;TZID=America/New_York:20260310T140000
DTSTAMP:20260420T030757
CREATED:20260113T195615Z
LAST-MODIFIED:20260113T195615Z
UID:10000779-1773147600-1773151200@www.afspa.org
SUMMARY:Healthcare in Retirement
DESCRIPTION:This seminar will discuss what Medicare covers\, out-of-pocket medical expenses\, and long-term care insurance. This seminar will also cover these topics: \n\nUnderstanding healthcare costs in retirement\nStrategies to cover healthcare costs\nThe ABCs of Medicare\n\nWe offer this webinar in three sessions: 8:00 a.m.\, 1:00 p.m.\, and 6:00 p.m. ET. Please choose the session time that works best with your schedule.
URL:https://www.afspa.org/events/healthcare-in-retirement-2/2026-03-10/2/
LOCATION:ZOOM
CATEGORIES:Aging,Estate Planning,Financial Wellness,Medicare,Retirement
ATTACH;FMTTYPE=image/png:https://www.afspa.org/wp-content/uploads/2026/01/Healthcare-in-Retirement.png
END:VEVENT
BEGIN:VEVENT
DTSTART;TZID=America/New_York:20260310T180000
DTEND;TZID=America/New_York:20260310T190000
DTSTAMP:20260420T030757
CREATED:20260113T195615Z
LAST-MODIFIED:20260113T195615Z
UID:10000780-1773165600-1773169200@www.afspa.org
SUMMARY:Healthcare in Retirement
DESCRIPTION:This seminar will discuss what Medicare covers\, out-of-pocket medical expenses\, and long-term care insurance. This seminar will also cover these topics: \n\nUnderstanding healthcare costs in retirement\nStrategies to cover healthcare costs\nThe ABCs of Medicare\n\nWe offer this webinar in three sessions: 8:00 a.m.\, 1:00 p.m.\, and 6:00 p.m. ET. Please choose the session time that works best with your schedule.
URL:https://www.afspa.org/events/healthcare-in-retirement-2/2026-03-10/3/
LOCATION:ZOOM
CATEGORIES:Aging,Estate Planning,Financial Wellness,Medicare,Retirement
ATTACH;FMTTYPE=image/png:https://www.afspa.org/wp-content/uploads/2026/01/Healthcare-in-Retirement.png
END:VEVENT
BEGIN:VEVENT
DTSTART;TZID=America/New_York:20260318T100000
DTEND;TZID=America/New_York:20260318T160000
DTSTAMP:20260420T030757
CREATED:20260306T150935Z
LAST-MODIFIED:20260306T151003Z
UID:10000788-1773828000-1773849600@www.afspa.org
SUMMARY:Financial Wellness Check-Up
DESCRIPTION:AFSPA members can schedule an appointment with a financial professional who can assist you in evaluating your financial objectives\, addressing concerns related to overall financial health\, providing clarity on your benefit plan\, and optimizing its usage. These specialists will be accessible from 10:00 am to 4:00 pm ET. Register now to make an appointment.
URL:https://www.afspa.org/events/financial-wellness-check-up-16/
LOCATION:ZOOM
CATEGORIES:Estate Planning,Financial Wellness,Foreign Service Benefit Plan
ATTACH;FMTTYPE=image/png:https://www.afspa.org/wp-content/uploads/2026/03/Prudential-FW-3.18.26.png
END:VEVENT
BEGIN:VEVENT
DTSTART;TZID=America/New_York:20260324T080000
DTEND;TZID=America/New_York:20260324T090000
DTSTAMP:20260420T030757
CREATED:20260114T145522Z
LAST-MODIFIED:20260114T145523Z
UID:10000781-1774339200-1774342800@www.afspa.org
SUMMARY:Your Social Security Benefits
DESCRIPTION:This seminar provides an in-depth explanation of Social Security’s retirement\, disability\, and death benefits. This webinar will cover these topics as well: \n\nThe basics of Social Security and how to enroll\nRetirement income needs\nStrategies to maximize your Social Security income \n\nWe offer this webinar in three sessions: 8:00 a.m.\, 1:00 p.m.\, and 6:00 p.m. ET. Please choose the session time that works best with your schedule.
URL:https://www.afspa.org/events/your-social-security-benefits-2/2026-03-24/1/
LOCATION:ZOOM
CATEGORIES:Aging,Estate Planning,Financial Wellness,Retirement
ATTACH;FMTTYPE=image/png:https://www.afspa.org/wp-content/uploads/2026/01/Your-Social-Security-Benefits.png
END:VEVENT
BEGIN:VEVENT
DTSTART;TZID=America/New_York:20260324T130000
DTEND;TZID=America/New_York:20260324T140000
DTSTAMP:20260420T030757
CREATED:20260114T145522Z
LAST-MODIFIED:20260114T145523Z
UID:10000782-1774357200-1774360800@www.afspa.org
SUMMARY:Your Social Security Benefits
DESCRIPTION:This seminar provides an in-depth explanation of Social Security’s retirement\, disability\, and death benefits. This webinar will cover these topics as well: \n\nThe basics of Social Security and how to enroll\nRetirement income needs\nStrategies to maximize your Social Security income \n\nWe offer this webinar in three sessions: 8:00 a.m.\, 1:00 p.m.\, and 6:00 p.m. ET. Please choose the session time that works best with your schedule.
URL:https://www.afspa.org/events/your-social-security-benefits-2/2026-03-24/2/
LOCATION:ZOOM
CATEGORIES:Aging,Estate Planning,Financial Wellness,Retirement
ATTACH;FMTTYPE=image/png:https://www.afspa.org/wp-content/uploads/2026/01/Your-Social-Security-Benefits.png
END:VEVENT
BEGIN:VEVENT
DTSTART;TZID=America/New_York:20260324T180000
DTEND;TZID=America/New_York:20260324T190000
DTSTAMP:20260420T030757
CREATED:20260114T145522Z
LAST-MODIFIED:20260114T145523Z
UID:10000783-1774375200-1774378800@www.afspa.org
SUMMARY:Your Social Security Benefits
DESCRIPTION:This seminar provides an in-depth explanation of Social Security’s retirement\, disability\, and death benefits. This webinar will cover these topics as well: \n\nThe basics of Social Security and how to enroll\nRetirement income needs\nStrategies to maximize your Social Security income \n\nWe offer this webinar in three sessions: 8:00 a.m.\, 1:00 p.m.\, and 6:00 p.m. ET. Please choose the session time that works best with your schedule.
URL:https://www.afspa.org/events/your-social-security-benefits-2/2026-03-24/3/
LOCATION:ZOOM
CATEGORIES:Aging,Estate Planning,Financial Wellness,Retirement
ATTACH;FMTTYPE=image/png:https://www.afspa.org/wp-content/uploads/2026/01/Your-Social-Security-Benefits.png
END:VEVENT
BEGIN:VEVENT
DTSTART;TZID=America/New_York:20260326T110000
DTEND;TZID=America/New_York:20260326T113000
DTSTAMP:20260420T030757
CREATED:20260319T180826Z
LAST-MODIFIED:20260319T180826Z
UID:10000801-1774522800-1774524600@www.afspa.org
SUMMARY:AFSPA Live Q&A Session on 3/26: All things Medicare
DESCRIPTION:Do you have questions about FSBP? You’re invited to join our live Q&A session on Thursday\, March 26\, at 11:00 AM ET. AFSPA’s CEO\, Kyle Longton\, will be available to answer your questions related to this topic. Watch the live broadcast here. \n\n Send any questions you want to be answered during the show by filling out this form: https://forms.office.com/r/wM8t8HqvDM. \nLeave your question(s) in the comment section of our live broadcast video.\nCall a toll-free number 1-888-435-0757 to leave a voicemail message with your question(s). In your message\, tell us your name\, and where you’re calling from\, and state your question(s).
URL:https://www.afspa.org/events/afspa-live-qa-session-on-3-26-medicare/
CATEGORIES:Foreign Service Benefit Plan,Medicare
ATTACH;FMTTYPE=image/png:https://www.afspa.org/wp-content/uploads/2026/03/All-Things-Medicare.png
END:VEVENT
END:VCALENDAR