BEGIN:VCALENDAR
VERSION:2.0
PRODID:-//AFSPA - ECPv6.15.20//NONSGML v1.0//EN
CALSCALE:GREGORIAN
METHOD:PUBLISH
X-ORIGINAL-URL:https://www.afspa.org
X-WR-CALDESC:Events for AFSPA
REFRESH-INTERVAL;VALUE=DURATION:PT1H
X-Robots-Tag:noindex
X-PUBLISHED-TTL:PT1H
BEGIN:VTIMEZONE
TZID:America/New_York
BEGIN:DAYLIGHT
TZOFFSETFROM:-0500
TZOFFSETTO:-0400
TZNAME:EDT
DTSTART:20240310T070000
END:DAYLIGHT
BEGIN:STANDARD
TZOFFSETFROM:-0400
TZOFFSETTO:-0500
TZNAME:EST
DTSTART:20241103T060000
END:STANDARD
BEGIN:DAYLIGHT
TZOFFSETFROM:-0500
TZOFFSETTO:-0400
TZNAME:EDT
DTSTART:20250309T070000
END:DAYLIGHT
BEGIN:STANDARD
TZOFFSETFROM:-0400
TZOFFSETTO:-0500
TZNAME:EST
DTSTART:20251102T060000
END:STANDARD
BEGIN:DAYLIGHT
TZOFFSETFROM:-0500
TZOFFSETTO:-0400
TZNAME:EDT
DTSTART:20260308T070000
END:DAYLIGHT
BEGIN:STANDARD
TZOFFSETFROM:-0400
TZOFFSETTO:-0500
TZNAME:EST
DTSTART:20261101T060000
END:STANDARD
END:VTIMEZONE
BEGIN:VEVENT
DTSTART;TZID=America/New_York:20250307T110000
DTEND;TZID=America/New_York:20250307T133000
DTSTAMP:20260423T221720
CREATED:20241218T221556Z
LAST-MODIFIED:20241218T221557Z
UID:10000646-1741345200-1741354200@www.afspa.org
SUMMARY:Annual AFSPA Member Meeting
DESCRIPTION:Join us at our Annual Member Meeting for an overview of AFSPA’s 2025 activities. You can meet our team and gain valuable insights about our programs. This event is hybrid so if you can’t join us in DC\, a live webinar of the meeting will be available. RSVP by February 27.
URL:https://www.afspa.org/events/annual-afspa-member-meeting-2025/
LOCATION:AFSPA Headquarters Office\, 1620 L Street NW\, Suite 800\, Washington\, DC\, 20036\, United States
CATEGORIES:Annual Meeting
ATTACH;FMTTYPE=image/jpeg:https://www.afspa.org/wp-content/uploads/2024/12/2025-AFSPA-Annual-Meeting-Save-the-Date-e1734560125412.jpg
END:VEVENT
END:VCALENDAR