BEGIN:VCALENDAR
VERSION:2.0
PRODID:-//AFSPA - ECPv6.15.20//NONSGML v1.0//EN
CALSCALE:GREGORIAN
METHOD:PUBLISH
X-ORIGINAL-URL:https://www.afspa.org
X-WR-CALDESC:Events for AFSPA
REFRESH-INTERVAL;VALUE=DURATION:PT1H
X-Robots-Tag:noindex
X-PUBLISHED-TTL:PT1H
BEGIN:VTIMEZONE
TZID:America/New_York
BEGIN:DAYLIGHT
TZOFFSETFROM:-0500
TZOFFSETTO:-0400
TZNAME:EDT
DTSTART:20230312T070000
END:DAYLIGHT
BEGIN:STANDARD
TZOFFSETFROM:-0400
TZOFFSETTO:-0500
TZNAME:EST
DTSTART:20231105T060000
END:STANDARD
BEGIN:DAYLIGHT
TZOFFSETFROM:-0500
TZOFFSETTO:-0400
TZNAME:EDT
DTSTART:20240310T070000
END:DAYLIGHT
BEGIN:STANDARD
TZOFFSETFROM:-0400
TZOFFSETTO:-0500
TZNAME:EST
DTSTART:20241103T060000
END:STANDARD
BEGIN:DAYLIGHT
TZOFFSETFROM:-0500
TZOFFSETTO:-0400
TZNAME:EDT
DTSTART:20250309T070000
END:DAYLIGHT
BEGIN:STANDARD
TZOFFSETFROM:-0400
TZOFFSETTO:-0500
TZNAME:EST
DTSTART:20251102T060000
END:STANDARD
END:VTIMEZONE
BEGIN:VEVENT
DTSTART;TZID=America/New_York:20240416T080000
DTEND;TZID=America/New_York:20240416T090000
DTSTAMP:20260419T184838
CREATED:20240311T201503Z
LAST-MODIFIED:20240311T201612Z
UID:10000566-1713254400-1713258000@www.afspa.org
SUMMARY:College Funding Methods
DESCRIPTION:Paying for college is one of the major financial decisions you will face in life. This session will provide strategies to save for college\, including 529 College Savings Plans and Coverdell Education Savings Accounts. Register here.
URL:https://www.afspa.org/events/college-funding-methods-2/2024-04-16/1/
LOCATION:ZOOM
CATEGORIES:Ancillary Insurance Programs,Financial Wellness
ATTACH;FMTTYPE=image/jpeg:https://www.afspa.org/wp-content/uploads/2024/03/pigging-bank-wearing-eyeglass-with-coins-scaled.jpg
END:VEVENT
BEGIN:VEVENT
DTSTART;TZID=America/New_York:20240416T130000
DTEND;TZID=America/New_York:20240416T140000
DTSTAMP:20260419T184838
CREATED:20240311T201503Z
LAST-MODIFIED:20240311T201612Z
UID:10000567-1713272400-1713276000@www.afspa.org
SUMMARY:College Funding Methods
DESCRIPTION:Paying for college is one of the major financial decisions you will face in life. This session will provide strategies to save for college\, including 529 College Savings Plans and Coverdell Education Savings Accounts. Register here.
URL:https://www.afspa.org/events/college-funding-methods-2/2024-04-16/2/
LOCATION:ZOOM
CATEGORIES:Ancillary Insurance Programs,Financial Wellness
ATTACH;FMTTYPE=image/jpeg:https://www.afspa.org/wp-content/uploads/2024/03/pigging-bank-wearing-eyeglass-with-coins-scaled.jpg
END:VEVENT
BEGIN:VEVENT
DTSTART;TZID=America/New_York:20240416T180000
DTEND;TZID=America/New_York:20240416T190000
DTSTAMP:20260419T184838
CREATED:20240311T201503Z
LAST-MODIFIED:20240311T201612Z
UID:10000568-1713290400-1713294000@www.afspa.org
SUMMARY:College Funding Methods
DESCRIPTION:Paying for college is one of the major financial decisions you will face in life. This session will provide strategies to save for college\, including 529 College Savings Plans and Coverdell Education Savings Accounts. Register here.
URL:https://www.afspa.org/events/college-funding-methods-2/2024-04-16/3/
LOCATION:ZOOM
CATEGORIES:Ancillary Insurance Programs,Financial Wellness
ATTACH;FMTTYPE=image/jpeg:https://www.afspa.org/wp-content/uploads/2024/03/pigging-bank-wearing-eyeglass-with-coins-scaled.jpg
END:VEVENT
END:VCALENDAR