BEGIN:VCALENDAR
VERSION:2.0
PRODID:-//AFSPA - ECPv6.15.20//NONSGML v1.0//EN
CALSCALE:GREGORIAN
METHOD:PUBLISH
X-WR-CALNAME:AFSPA
X-ORIGINAL-URL:https://www.afspa.org
X-WR-CALDESC:Events for AFSPA
REFRESH-INTERVAL;VALUE=DURATION:PT1H
X-Robots-Tag:noindex
X-PUBLISHED-TTL:PT1H
BEGIN:VTIMEZONE
TZID:America/New_York
BEGIN:DAYLIGHT
TZOFFSETFROM:-0500
TZOFFSETTO:-0400
TZNAME:EDT
DTSTART:20200308T070000
END:DAYLIGHT
BEGIN:STANDARD
TZOFFSETFROM:-0400
TZOFFSETTO:-0500
TZNAME:EST
DTSTART:20201101T060000
END:STANDARD
BEGIN:DAYLIGHT
TZOFFSETFROM:-0500
TZOFFSETTO:-0400
TZNAME:EDT
DTSTART:20210314T070000
END:DAYLIGHT
BEGIN:STANDARD
TZOFFSETFROM:-0400
TZOFFSETTO:-0500
TZNAME:EST
DTSTART:20211107T060000
END:STANDARD
BEGIN:DAYLIGHT
TZOFFSETFROM:-0500
TZOFFSETTO:-0400
TZNAME:EDT
DTSTART:20220313T070000
END:DAYLIGHT
BEGIN:STANDARD
TZOFFSETFROM:-0400
TZOFFSETTO:-0500
TZNAME:EST
DTSTART:20221106T060000
END:STANDARD
END:VTIMEZONE
BEGIN:VEVENT
DTSTART;TZID=America/New_York:20211021T130000
DTEND;TZID=America/New_York:20211021T140000
DTSTAMP:20260423T130952
CREATED:20210803T224353Z
LAST-MODIFIED:20210803T224353Z
UID:10000427-1634821200-1634824800@www.afspa.org
SUMMARY:Financial Challenges of Coping with Critical Illness
DESCRIPTION:Financial Challenges of Coping with Critical Illness delves into topics such as the types of costs to expect and funding sources for dealing with them.
URL:https://www.afspa.org/events/financial-challenges-of-coping-with-critical-illness/
CATEGORIES:Financial Wellness,Health and Fitness
ATTACH;FMTTYPE=image/jpeg:https://www.afspa.org/wp-content/uploads/2021/08/Critical-Illness-scaled.jpeg
END:VEVENT
END:VCALENDAR