BEGIN:VCALENDAR
VERSION:2.0
PRODID:-//AFSPA - ECPv6.15.20//NONSGML v1.0//EN
CALSCALE:GREGORIAN
METHOD:PUBLISH
X-WR-CALNAME:AFSPA
X-ORIGINAL-URL:https://www.afspa.org
X-WR-CALDESC:Events for AFSPA
REFRESH-INTERVAL;VALUE=DURATION:PT1H
X-Robots-Tag:noindex
X-PUBLISHED-TTL:PT1H
BEGIN:VTIMEZONE
TZID:America/New_York
BEGIN:DAYLIGHT
TZOFFSETFROM:-0500
TZOFFSETTO:-0400
TZNAME:EDT
DTSTART:20250309T070000
END:DAYLIGHT
BEGIN:STANDARD
TZOFFSETFROM:-0400
TZOFFSETTO:-0500
TZNAME:EST
DTSTART:20251102T060000
END:STANDARD
BEGIN:DAYLIGHT
TZOFFSETFROM:-0500
TZOFFSETTO:-0400
TZNAME:EDT
DTSTART:20260308T070000
END:DAYLIGHT
BEGIN:STANDARD
TZOFFSETFROM:-0400
TZOFFSETTO:-0500
TZNAME:EST
DTSTART:20261101T060000
END:STANDARD
BEGIN:DAYLIGHT
TZOFFSETFROM:-0500
TZOFFSETTO:-0400
TZNAME:EDT
DTSTART:20270314T070000
END:DAYLIGHT
BEGIN:STANDARD
TZOFFSETFROM:-0400
TZOFFSETTO:-0500
TZNAME:EST
DTSTART:20271107T060000
END:STANDARD
END:VTIMEZONE
BEGIN:VEVENT
DTSTART;TZID=America/New_York:20260609T180000
DTEND;TZID=America/New_York:20260609T190000
DTSTAMP:20260424T004807
CREATED:20260423T163212Z
LAST-MODIFIED:20260423T163212Z
UID:10000805-1781028000-1781031600@www.afspa.org
SUMMARY:Men's Fertility: What You Need to Know for Growing Your Family
DESCRIPTION:This live session will break down the essentials of male fertility and offer practical strategies you can start using right away. You’ll learn: \n\nHow male fertility can impact your ability to conceive\nWhat to expect from male fertility testing\nHow to identify and address common male fertility challenges\nTips to help optimize your health and support your family-building goals\nAnd more\n\nCan’t attend live? Register anyway\, and Maven will share the recording afterward. \nAnd remember\, Maven is a free benefit that provides 24/7 support for every stage of your family journey. Join today at no cost.
URL:https://www.afspa.org/events/mens-fertility-what-you-need-to-know-for-growing-your-family/
LOCATION:ZOOM
CATEGORIES:Foreign Service Benefit Plan,Men's Health,Parenting
ATTACH;FMTTYPE=image/png:https://www.afspa.org/wp-content/uploads/2026/04/June-2026_-Habits-to-improve-sleep-for-you-and-your-family-1.png
END:VEVENT
END:VCALENDAR