BEGIN:VCALENDAR
VERSION:2.0
PRODID:-//AFSPA - ECPv6.15.20//NONSGML v1.0//EN
CALSCALE:GREGORIAN
METHOD:PUBLISH
X-WR-CALNAME:AFSPA
X-ORIGINAL-URL:https://www.afspa.org
X-WR-CALDESC:Events for AFSPA
REFRESH-INTERVAL;VALUE=DURATION:PT1H
X-Robots-Tag:noindex
X-PUBLISHED-TTL:PT1H
BEGIN:VTIMEZONE
TZID:America/New_York
BEGIN:DAYLIGHT
TZOFFSETFROM:-0500
TZOFFSETTO:-0400
TZNAME:EDT
DTSTART:20230312T070000
END:DAYLIGHT
BEGIN:STANDARD
TZOFFSETFROM:-0400
TZOFFSETTO:-0500
TZNAME:EST
DTSTART:20231105T060000
END:STANDARD
BEGIN:DAYLIGHT
TZOFFSETFROM:-0500
TZOFFSETTO:-0400
TZNAME:EDT
DTSTART:20240310T070000
END:DAYLIGHT
BEGIN:STANDARD
TZOFFSETFROM:-0400
TZOFFSETTO:-0500
TZNAME:EST
DTSTART:20241103T060000
END:STANDARD
BEGIN:DAYLIGHT
TZOFFSETFROM:-0500
TZOFFSETTO:-0400
TZNAME:EDT
DTSTART:20250309T070000
END:DAYLIGHT
BEGIN:STANDARD
TZOFFSETFROM:-0400
TZOFFSETTO:-0500
TZNAME:EST
DTSTART:20251102T060000
END:STANDARD
END:VTIMEZONE
BEGIN:VEVENT
DTSTART;TZID=America/New_York:20240917T080000
DTEND;TZID=America/New_York:20240917T090000
DTSTAMP:20260419T082802
CREATED:20240806T001932Z
LAST-MODIFIED:20240806T001933Z
UID:10000601-1726560000-1726563600@www.afspa.org
SUMMARY:What You Should Know About Life Insurance
DESCRIPTION:Life Insurance isn’t just to pay for final expenses – in fact\, it can be used in multiple ways. This session will uncover uses for life insurance and help you determine how much life insurance you may need\, as well as provide an overview of the different types to consider. Register here.
URL:https://www.afspa.org/events/what-you-should-know-about-life-insurance-3/2024-09-17/1/
LOCATION:ZOOM
CATEGORIES:Ancillary Insurance Programs,Life Insurance
ATTACH;FMTTYPE=image/jpeg:https://www.afspa.org/wp-content/uploads/2024/08/big-family-portrait-and-happy-scaled.jpg
END:VEVENT
BEGIN:VEVENT
DTSTART;TZID=America/New_York:20240917T130000
DTEND;TZID=America/New_York:20240917T140000
DTSTAMP:20260419T082802
CREATED:20240806T001932Z
LAST-MODIFIED:20240806T001933Z
UID:10000602-1726578000-1726581600@www.afspa.org
SUMMARY:What You Should Know About Life Insurance
DESCRIPTION:Life Insurance isn’t just to pay for final expenses – in fact\, it can be used in multiple ways. This session will uncover uses for life insurance and help you determine how much life insurance you may need\, as well as provide an overview of the different types to consider. Register here.
URL:https://www.afspa.org/events/what-you-should-know-about-life-insurance-3/2024-09-17/2/
LOCATION:ZOOM
CATEGORIES:Ancillary Insurance Programs,Life Insurance
ATTACH;FMTTYPE=image/jpeg:https://www.afspa.org/wp-content/uploads/2024/08/big-family-portrait-and-happy-scaled.jpg
END:VEVENT
BEGIN:VEVENT
DTSTART;TZID=America/New_York:20240917T180000
DTEND;TZID=America/New_York:20240917T190000
DTSTAMP:20260419T082803
CREATED:20240806T001932Z
LAST-MODIFIED:20240806T001933Z
UID:10000603-1726596000-1726599600@www.afspa.org
SUMMARY:What You Should Know About Life Insurance
DESCRIPTION:Life Insurance isn’t just to pay for final expenses – in fact\, it can be used in multiple ways. This session will uncover uses for life insurance and help you determine how much life insurance you may need\, as well as provide an overview of the different types to consider. Register here.
URL:https://www.afspa.org/events/what-you-should-know-about-life-insurance-3/2024-09-17/3/
LOCATION:ZOOM
CATEGORIES:Ancillary Insurance Programs,Life Insurance
ATTACH;FMTTYPE=image/jpeg:https://www.afspa.org/wp-content/uploads/2024/08/big-family-portrait-and-happy-scaled.jpg
END:VEVENT
END:VCALENDAR