BEGIN:VCALENDAR
VERSION:2.0
PRODID:-//AFSPA - ECPv6.15.20//NONSGML v1.0//EN
CALSCALE:GREGORIAN
METHOD:PUBLISH
X-ORIGINAL-URL:https://www.afspa.org
X-WR-CALDESC:Events for AFSPA
REFRESH-INTERVAL;VALUE=DURATION:PT1H
X-Robots-Tag:noindex
X-PUBLISHED-TTL:PT1H
BEGIN:VTIMEZONE
TZID:America/New_York
BEGIN:DAYLIGHT
TZOFFSETFROM:-0500
TZOFFSETTO:-0400
TZNAME:EDT
DTSTART:20230312T070000
END:DAYLIGHT
BEGIN:STANDARD
TZOFFSETFROM:-0400
TZOFFSETTO:-0500
TZNAME:EST
DTSTART:20231105T060000
END:STANDARD
BEGIN:DAYLIGHT
TZOFFSETFROM:-0500
TZOFFSETTO:-0400
TZNAME:EDT
DTSTART:20240310T070000
END:DAYLIGHT
BEGIN:STANDARD
TZOFFSETFROM:-0400
TZOFFSETTO:-0500
TZNAME:EST
DTSTART:20241103T060000
END:STANDARD
BEGIN:DAYLIGHT
TZOFFSETFROM:-0500
TZOFFSETTO:-0400
TZNAME:EDT
DTSTART:20250309T070000
END:DAYLIGHT
BEGIN:STANDARD
TZOFFSETFROM:-0400
TZOFFSETTO:-0500
TZNAME:EST
DTSTART:20251102T060000
END:STANDARD
END:VTIMEZONE
BEGIN:VEVENT
DTSTART;TZID=America/New_York:20241211T120000
DTEND;TZID=America/New_York:20241211T130000
DTSTAMP:20260423T234235
CREATED:20240807T130205Z
LAST-MODIFIED:20240807T130205Z
UID:10000606-1733918400-1733922000@www.afspa.org
SUMMARY:Maven Moments: Preventing parental burnout
DESCRIPTION:Join this upcoming class with our Maven expert focusing on preventing parental burnout. Explore practical strategies to maintain balance\, identify signs of burnout\, and foster healthier family dynamics. Don’t miss this insightful session designed to empower parents with the tools needed to prioritize their well-being and create a nurturing environment for their children. Register here.
URL:https://www.afspa.org/events/maven-moments-preventing-parental-burnout/
LOCATION:ZOOM
CATEGORIES:Foreign Service Benefit Plan,Parenting
ATTACH;FMTTYPE=image/jpeg:https://www.afspa.org/wp-content/uploads/2024/08/young-mixed-race-family-relaxing-together-scaled.jpg
END:VEVENT
END:VCALENDAR