BEGIN:VCALENDAR
VERSION:2.0
PRODID:-//AFSPA - ECPv6.15.20//NONSGML v1.0//EN
CALSCALE:GREGORIAN
METHOD:PUBLISH
X-ORIGINAL-URL:https://www.afspa.org
X-WR-CALDESC:Events for AFSPA
REFRESH-INTERVAL;VALUE=DURATION:PT1H
X-Robots-Tag:noindex
X-PUBLISHED-TTL:PT1H
BEGIN:VTIMEZONE
TZID:America/New_York
BEGIN:DAYLIGHT
TZOFFSETFROM:-0500
TZOFFSETTO:-0400
TZNAME:EDT
DTSTART:20200308T070000
END:DAYLIGHT
BEGIN:STANDARD
TZOFFSETFROM:-0400
TZOFFSETTO:-0500
TZNAME:EST
DTSTART:20201101T060000
END:STANDARD
BEGIN:DAYLIGHT
TZOFFSETFROM:-0500
TZOFFSETTO:-0400
TZNAME:EDT
DTSTART:20210314T070000
END:DAYLIGHT
BEGIN:STANDARD
TZOFFSETFROM:-0400
TZOFFSETTO:-0500
TZNAME:EST
DTSTART:20211107T060000
END:STANDARD
BEGIN:DAYLIGHT
TZOFFSETFROM:-0500
TZOFFSETTO:-0400
TZNAME:EDT
DTSTART:20220313T070000
END:DAYLIGHT
BEGIN:STANDARD
TZOFFSETFROM:-0400
TZOFFSETTO:-0500
TZNAME:EST
DTSTART:20221106T060000
END:STANDARD
END:VTIMEZONE
BEGIN:VEVENT
DTSTART;TZID=America/New_York:20210630T120000
DTEND;TZID=America/New_York:20210630T130000
DTSTAMP:20260423T102445
CREATED:20210803T223019Z
LAST-MODIFIED:20210803T223019Z
UID:10000423-1625054400-1625058000@www.afspa.org
SUMMARY:Why Should I Get a Second Opinion
DESCRIPTION:The Foreign Service Benefit Plan is hosting a wellness webinar with our partners at PinnacleCare. If you have a serious diagnosis or need a top specialist – getting a second opinion may be the best course of action. This webinar will offer you tools to feel empowered in making medical decisions.
URL:https://www.afspa.org/events/why-should-i-get-a-second-opinion/
CATEGORIES:Foreign Service Benefit Plan,Health and Fitness
ATTACH;FMTTYPE=image/jpeg:https://www.afspa.org/wp-content/uploads/2021/08/Salp7A-U-scaled.jpeg
END:VEVENT
END:VCALENDAR