BEGIN:VCALENDAR
VERSION:2.0
PRODID:-//AFSPA - ECPv6.15.20//NONSGML v1.0//EN
CALSCALE:GREGORIAN
METHOD:PUBLISH
X-WR-CALNAME:AFSPA
X-ORIGINAL-URL:https://www.afspa.org
X-WR-CALDESC:Events for AFSPA
REFRESH-INTERVAL;VALUE=DURATION:PT1H
X-Robots-Tag:noindex
X-PUBLISHED-TTL:PT1H
BEGIN:VTIMEZONE
TZID:America/New_York
BEGIN:DAYLIGHT
TZOFFSETFROM:-0500
TZOFFSETTO:-0400
TZNAME:EDT
DTSTART:20210314T070000
END:DAYLIGHT
BEGIN:STANDARD
TZOFFSETFROM:-0400
TZOFFSETTO:-0500
TZNAME:EST
DTSTART:20211107T060000
END:STANDARD
BEGIN:DAYLIGHT
TZOFFSETFROM:-0500
TZOFFSETTO:-0400
TZNAME:EDT
DTSTART:20220313T070000
END:DAYLIGHT
BEGIN:STANDARD
TZOFFSETFROM:-0400
TZOFFSETTO:-0500
TZNAME:EST
DTSTART:20221106T060000
END:STANDARD
BEGIN:DAYLIGHT
TZOFFSETFROM:-0500
TZOFFSETTO:-0400
TZNAME:EDT
DTSTART:20230312T070000
END:DAYLIGHT
BEGIN:STANDARD
TZOFFSETFROM:-0400
TZOFFSETTO:-0500
TZNAME:EST
DTSTART:20231105T060000
END:STANDARD
END:VTIMEZONE
BEGIN:VEVENT
DTSTART;TZID=America/New_York:20220928T130000
DTEND;TZID=America/New_York:20220928T140000
DTSTAMP:20260420T002723
CREATED:20220901T031420Z
LAST-MODIFIED:20220901T031536Z
UID:10000380-1664370000-1664373600@www.afspa.org
SUMMARY:Financial Challenges of the Sandwich Generation
DESCRIPTION:Caring for children and parents at the same time can be challenging. This session will discuss not only the issues the sandwich generation faces but also potential solutions. This seminar will cover important topics like these: \n\nWhat is the Sandwich Generation?\nBalancing family’s needs\nFinancial strategies\nAnd more\n\nRegister here! \nJoin us for a session with: \n\nChristopher Mcallister\, CFP®\, RICP®\, Financial Planner\, Worksite Education Program Speaker
URL:https://www.afspa.org/events/financial-challenges-of-the-sandwich-generation-2/
CATEGORIES:Ancillary Insurance Programs,Financial Wellness
ATTACH;FMTTYPE=image/jpeg:https://www.afspa.org/wp-content/uploads/2022/08/tensed-african-american-couple-planning-budget-thr-2022-01-31-18-30-12-utc-scaled.jpg
END:VEVENT
END:VCALENDAR