BEGIN:VCALENDAR
VERSION:2.0
PRODID:-//AFSPA - ECPv6.15.20//NONSGML v1.0//EN
CALSCALE:GREGORIAN
METHOD:PUBLISH
X-ORIGINAL-URL:https://www.afspa.org
X-WR-CALDESC:Events for AFSPA
REFRESH-INTERVAL;VALUE=DURATION:PT1H
X-Robots-Tag:noindex
X-PUBLISHED-TTL:PT1H
BEGIN:VTIMEZONE
TZID:America/New_York
BEGIN:DAYLIGHT
TZOFFSETFROM:-0500
TZOFFSETTO:-0400
TZNAME:EDT
DTSTART:20220313T070000
END:DAYLIGHT
BEGIN:STANDARD
TZOFFSETFROM:-0400
TZOFFSETTO:-0500
TZNAME:EST
DTSTART:20221106T060000
END:STANDARD
BEGIN:DAYLIGHT
TZOFFSETFROM:-0500
TZOFFSETTO:-0400
TZNAME:EDT
DTSTART:20230312T070000
END:DAYLIGHT
BEGIN:STANDARD
TZOFFSETFROM:-0400
TZOFFSETTO:-0500
TZNAME:EST
DTSTART:20231105T060000
END:STANDARD
BEGIN:DAYLIGHT
TZOFFSETFROM:-0500
TZOFFSETTO:-0400
TZNAME:EDT
DTSTART:20240310T070000
END:DAYLIGHT
BEGIN:STANDARD
TZOFFSETFROM:-0400
TZOFFSETTO:-0500
TZNAME:EST
DTSTART:20241103T060000
END:STANDARD
END:VTIMEZONE
BEGIN:VEVENT
DTSTART;TZID=America/New_York:20230215T080000
DTEND;TZID=America/New_York:20230215T090000
DTSTAMP:20260425T102945
CREATED:20230203T045030Z
LAST-MODIFIED:20230203T050030Z
UID:10000472-1676448000-1676451600@www.afspa.org
SUMMARY:High Income Earner - Advanced Asset Accumulation Strategies Webinar
DESCRIPTION:AFSPA has partnered with Prudential Pathways  to offer a webinar session that will help you gain a better understanding of the financial concepts behind investing within your portfolio\, tax planning\, wealth creation and preservation\, risk management as well as protecting your assets. Learn how to effectively accumulate and distribute deferred compensation funds and common stock options & grants. Register now.
URL:https://www.afspa.org/events/high-income-earner-advanced-asset-accumulation-strategiewebinar/
CATEGORIES:Ancillary Insurance Programs,Financial Wellness
ATTACH;FMTTYPE=image/jpeg:https://www.afspa.org/wp-content/uploads/2023/02/middle-aged-man-using-a-laptop-while-working-in-a-2023-01-31-23-53-15-utc-scaled.jpg
END:VEVENT
BEGIN:VEVENT
DTSTART;TZID=America/New_York:20230215T130000
DTEND;TZID=America/New_York:20230215T140000
DTSTAMP:20260425T102945
CREATED:20230203T050023Z
LAST-MODIFIED:20230203T050451Z
UID:10000482-1676466000-1676469600@www.afspa.org
SUMMARY:High Income Earner - Advanced Asset Accumulation Strategies Webinar
DESCRIPTION:AFSPA has partnered with Prudential Pathways  to offer a webinar session that will help you gain a better understanding of the financial concepts behind investing within your portfolio\, tax planning\, wealth creation and preservation\, risk management as well as protecting your assets. Learn how to effectively accumulate and distribute deferred compensation funds and common stock options & grants. Register now.
URL:https://www.afspa.org/events/high-income-earner-advanced-asset-accumulation-strategies-webinar-2/
CATEGORIES:Ancillary Insurance Programs,Financial Wellness
ATTACH;FMTTYPE=image/jpeg:https://www.afspa.org/wp-content/uploads/2023/02/middle-aged-man-using-a-laptop-while-working-in-a-2023-01-31-23-53-15-utc-scaled.jpg
END:VEVENT
BEGIN:VEVENT
DTSTART;TZID=America/New_York:20230222T110000
DTEND;TZID=America/New_York:20230222T120000
DTSTAMP:20260425T102945
CREATED:20230216T230503Z
LAST-MODIFIED:20230216T230504Z
UID:10000475-1677063600-1677067200@www.afspa.org
SUMMARY:How to Protect Your Heart: You Only Have One!
DESCRIPTION:In this webinar session\, Dr. Lawless will explain what heart disease is\, the importance of partnering with your primary care physician to measure the risk factors\, and best ways to modify and control all the risk factors\, and thereby\, limit your chances of getting heart disease. For those who love coffee\, wine\, and chocolate\, Dr. Lawless will share with you the latest research as to whether these foods are helpful or harmful. She will also discuss what to do if you get a symptom that might be a heart problem\, and what to do about it. Register now.
URL:https://www.afspa.org/events/how-to-protect-your-heart-you-only-have-one/
CATEGORIES:Stress Management,Wellness
ATTACH;FMTTYPE=image/jpeg:https://www.afspa.org/wp-content/uploads/2023/02/female-doctor-with-stethoscope-checking-heart-beat-2021-08-31-15-58-51-utc-1-scaled.jpg
END:VEVENT
END:VCALENDAR